BEGIN:VCALENDAR
VERSION:2.0
PRODID:-//Royal Armoured Corps Saddle Club, Bovington - ECPv6.0.3//NONSGML v1.0//EN
CALSCALE:GREGORIAN
METHOD:PUBLISH
X-WR-CALNAME:Royal Armoured Corps Saddle Club, Bovington
X-ORIGINAL-URL:https://www.racsaddleclub.co.uk
X-WR-CALDESC:Events for Royal Armoured Corps Saddle Club, Bovington
REFRESH-INTERVAL;VALUE=DURATION:PT1H
X-Robots-Tag:noindex
X-PUBLISHED-TTL:PT1H
BEGIN:VTIMEZONE
TZID:Europe/London
BEGIN:DAYLIGHT
TZOFFSETFROM:+0000
TZOFFSETTO:+0100
TZNAME:BST
DTSTART:20230326T010000
END:DAYLIGHT
BEGIN:STANDARD
TZOFFSETFROM:+0100
TZOFFSETTO:+0000
TZNAME:GMT
DTSTART:20231029T010000
END:STANDARD
END:VTIMEZONE
BEGIN:VEVENT
DTSTART;VALUE=DATE:20230816
DTEND;VALUE=DATE:20230819
DTSTAMP:20260420T164419
CREATED:20221201T144017Z
LAST-MODIFIED:20221204T084941Z
UID:3147-1692172800-1692345599@www.racsaddleclub.co.uk
SUMMARY:RAC Minis Pony Club Members Non-Residential Camp (Aged 6 to 8 approx.) WTC\, Poles or Jumping 40cm to 50cm
DESCRIPTION:
URL:https://www.racsaddleclub.co.uk/event/rac-minis-pony-club-members-non-residential-camp-aged-6-to-8-approx-wtc-poles-or-jumping-40cm-to-50cm-5/
LOCATION:RAC Saddle Club\, Bovington\, BH20 6JG
CATEGORIES:Camps
ORGANIZER;CN="RAC%20Saddle%20Club":MAILTO:office@racsaddleclub.co.uk
END:VEVENT
BEGIN:VEVENT
DTSTART;VALUE=DATE:20230813
DTEND;VALUE=DATE:20230817
DTSTAMP:20260420T164419
CREATED:20221201T144003Z
LAST-MODIFIED:20221204T084841Z
UID:3144-1691913600-1692172799@www.racsaddleclub.co.uk
SUMMARY:RAC Pony Club Members Residential CampIntermediates jumping 70cm to 85cm
DESCRIPTION:
URL:https://www.racsaddleclub.co.uk/event/rac-pony-club-members-residential-campintermediates-jumping-70cm-to-85cm-7/
LOCATION:RAC Saddle Club\, Bovington\, BH20 6JG
CATEGORIES:Camps
ORGANIZER;CN="RAC%20Saddle%20Club":MAILTO:office@racsaddleclub.co.uk
END:VEVENT
BEGIN:VEVENT
DTSTART;VALUE=DATE:20230807
DTEND;VALUE=DATE:20230812
DTSTAMP:20260420T164419
CREATED:20221201T143947Z
LAST-MODIFIED:20221204T084748Z
UID:3140-1691395200-1691740799@www.racsaddleclub.co.uk
SUMMARY:Junior Academy Camp – Riders jumping 60cm to 90cmOpen to non-RAC members on their own horses/ponies
DESCRIPTION:
URL:https://www.racsaddleclub.co.uk/event/junior-academy-camp-riders-jumping-60cm-to-90cmopen-to-non-rac-members-on-their-own-horses-ponies-9/
LOCATION:RAC Saddle Club\, Bovington\, BH20 6JG
CATEGORIES:Camps
ORGANIZER;CN="RAC%20Saddle%20Club":MAILTO:office@racsaddleclub.co.uk
END:VEVENT
BEGIN:VEVENT
DTSTART;VALUE=DATE:20230731
DTEND;VALUE=DATE:20230805
DTSTAMP:20260420T164419
CREATED:20221201T143932Z
LAST-MODIFIED:20221204T085548Z
UID:3135-1690790400-1691135999@www.racsaddleclub.co.uk
SUMMARY:Eventers Camp (Age 12 to 25) – Riders competing 80cm + Residential for children aged 14 + only
DESCRIPTION:
URL:https://www.racsaddleclub.co.uk/event/eventers-camp-age-12-to-25-riders-competing-80cm-residential-for-children-aged-14-only-9/
LOCATION:RAC Saddle Club\, Bovington\, BH20 6JG
CATEGORIES:Camps
ORGANIZER;CN="RAC%20Saddle%20Club":MAILTO:office@racsaddleclub.co.uk
END:VEVENT
BEGIN:VEVENT
DTSTART;TZID=Europe/London:20230710T093000
DTEND;TZID=Europe/London:20230710T153000
DTSTAMP:20260420T164419
CREATED:20230421T154543Z
LAST-MODIFIED:20230421T154543Z
UID:3483-1688981400-1689003000@www.racsaddleclub.co.uk
SUMMARY:Show Jumping Course Hire
DESCRIPTION:
URL:https://www.racsaddleclub.co.uk/event/show-jumping-course-hire-22/
LOCATION:RAC Saddle Club\, Bovington\, BH20 6JG
CATEGORIES:Course Hire,Show Jumping
ORGANIZER;CN="RAC%20Saddle%20Club":MAILTO:office@racsaddleclub.co.uk
END:VEVENT
BEGIN:VEVENT
DTSTART;TZID=Europe/London:20230709T093000
DTEND;TZID=Europe/London:20230709T140000
DTSTAMP:20260420T164419
CREATED:20230421T154449Z
LAST-MODIFIED:20230421T154455Z
UID:3481-1688895000-1688911200@www.racsaddleclub.co.uk
SUMMARY:Show Jumping Competition
DESCRIPTION:
URL:https://www.racsaddleclub.co.uk/event/show-jumping-competition-14/
LOCATION:RAC Saddle Club\, Bovington\, BH20 6JG
CATEGORIES:Competition,Show Jumping
ORGANIZER;CN="RAC%20Saddle%20Club":MAILTO:office@racsaddleclub.co.uk
END:VEVENT
BEGIN:VEVENT
DTSTART;VALUE=DATE:20230707
DTEND;VALUE=DATE:20230711
DTSTAMP:20260420T164419
CREATED:20221201T143932Z
LAST-MODIFIED:20221204T085714Z
UID:3132-1688716800-1688975999@www.racsaddleclub.co.uk
SUMMARY:Adult Camp (arrive from 4pm Friday)
DESCRIPTION:
URL:https://www.racsaddleclub.co.uk/event/adult-camp-arrive-from-4pm-friday-11/
LOCATION:RAC Saddle Club\, Bovington\, BH20 6JG
CATEGORIES:Camps
ORGANIZER;CN="RAC%20Saddle%20Club":MAILTO:office@racsaddleclub.co.uk
END:VEVENT
BEGIN:VEVENT
DTSTART;TZID=Europe/London:20230702T093000
DTEND;TZID=Europe/London:20230702T143000
DTSTAMP:20260420T164419
CREATED:20221201T143932Z
LAST-MODIFIED:20221204T075809Z
UID:3131-1688290200-1688308200@www.racsaddleclub.co.uk
SUMMARY:XC Schooling – Course Open
DESCRIPTION:
URL:https://www.racsaddleclub.co.uk/event/xc-schooling-course-open-22/
LOCATION:RAC Saddle Club\, Bovington\, BH20 6JG
CATEGORIES:Camps,XC Schooling - Course Open
ORGANIZER;CN="RAC%20Saddle%20Club":MAILTO:office@racsaddleclub.co.uk
END:VEVENT
BEGIN:VEVENT
DTSTART;VALUE=DATE:20230702
DTEND;VALUE=DATE:20230704
DTSTAMP:20260420T164419
CREATED:20230309T165728Z
LAST-MODIFIED:20230309T165846Z
UID:3403-1688284800-1688371199@www.racsaddleclub.co.uk
SUMMARY:XC Clinics with Paul Warwick BHS AI
DESCRIPTION:Calling all riders across the levels who are preparing to get back out eventing… don’t miss this clinic with Coach\, BHS AI\, Paul Warwick who has more than 30 years’ experience coaching children and adults of all levels including horse and rider combinations that have placed at Badminton Grassroots. This is your chance to practice skinnies\, corners\, angles\, water and combinations under Paul’s skilful eye and improve and build your technique and confidence.\n\n\n9:30am up to 80cm\n11am 80cm plus\n\n\nSunday 2 July 2023\nMaximum of 6 riders in the group.\nClinic length – 1.5 hours\n£40 per rider\n\nRefunds before closing date and less £5 admin fee.\n\nCLICK HERE to book.
URL:https://www.racsaddleclub.co.uk/event/3403/
LOCATION:RAC Saddle Club\, Bovington\, BH20 6JG
CATEGORIES:Bovington BE,Bovington ODE,Clinic,XC Schooling - Course Open
ORGANIZER;CN="RAC%20Saddle%20Club":MAILTO:office@racsaddleclub.co.uk
END:VEVENT
BEGIN:VEVENT
DTSTART;TZID=Europe/London:20230701T093000
DTEND;TZID=Europe/London:20230701T143000
DTSTAMP:20260420T164419
CREATED:20221201T143917Z
LAST-MODIFIED:20221204T075725Z
UID:3130-1688203800-1688221800@www.racsaddleclub.co.uk
SUMMARY:XC Schooling – Course Open
DESCRIPTION:
URL:https://www.racsaddleclub.co.uk/event/xc-schooling-course-open-21/
LOCATION:RAC Saddle Club\, Bovington\, BH20 6JG
CATEGORIES:Course Hire,XC Schooling - Course Open
ORGANIZER;CN="RAC%20Saddle%20Club":MAILTO:office@racsaddleclub.co.uk
END:VEVENT
BEGIN:VEVENT
DTSTART;VALUE=DATE:20230616
DTEND;VALUE=DATE:20230620
DTSTAMP:20260420T164419
CREATED:20221201T143916Z
LAST-MODIFIED:20221204T085812Z
UID:3127-1686902400-1687161599@www.racsaddleclub.co.uk
SUMMARY:Adult Camp (arrive from 4pm Friday)
DESCRIPTION:
URL:https://www.racsaddleclub.co.uk/event/adult-camp-arrive-from-4pm-friday-10/
LOCATION:RAC Saddle Club\, Bovington\, BH20 6JG
CATEGORIES:Camps
ORGANIZER;CN="RAC%20Saddle%20Club":MAILTO:office@racsaddleclub.co.uk
END:VEVENT
BEGIN:VEVENT
DTSTART;TZID=Europe/London:20230609T083000
DTEND;TZID=Europe/London:20230609T160000
DTSTAMP:20260420T164419
CREATED:20221201T143916Z
LAST-MODIFIED:20221223T163123Z
UID:3126-1686299400-1686326400@www.racsaddleclub.co.uk
SUMMARY:BHS Stage 2 and 3 Coach Assessment
DESCRIPTION:
URL:https://www.racsaddleclub.co.uk/event/bhs-stage-2-3-coach-assessment-2/
LOCATION:RAC Saddle Club\, Bovington\, BH20 6JG
ORGANIZER;CN="RAC%20Saddle%20Club":MAILTO:office@racsaddleclub.co.uk
END:VEVENT
BEGIN:VEVENT
DTSTART;TZID=Europe/London:20230531T093000
DTEND;TZID=Europe/London:20230531T153000
DTSTAMP:20260420T164419
CREATED:20221103T180529Z
LAST-MODIFIED:20221223T163008Z
UID:2833-1685525400-1685547000@www.racsaddleclub.co.uk
SUMMARY:U25 Show Jumping Competition
DESCRIPTION:
URL:https://www.racsaddleclub.co.uk/event/u25-show-jumping-competition-2/
LOCATION:RAC Saddle Club\, Bovington\, BH20 6JG
CATEGORIES:Competition,Show Jumping
ORGANIZER;CN="RAC%20Saddle%20Club":MAILTO:office@racsaddleclub.co.uk
END:VEVENT
BEGIN:VEVENT
DTSTART;TZID=Europe/London:20230529T093000
DTEND;TZID=Europe/London:20230529T143000
DTSTAMP:20260420T164419
CREATED:20221204T075259Z
LAST-MODIFIED:20221204T075303Z
UID:3191-1685352600-1685370600@www.racsaddleclub.co.uk
SUMMARY:Show Jumping Course Hire
DESCRIPTION:
URL:https://www.racsaddleclub.co.uk/event/show-jumping-course-hire-21/
LOCATION:RAC Saddle Club\, Bovington\, BH20 6JG
CATEGORIES:Course Hire,Show Jumping
ORGANIZER;CN="RAC%20Saddle%20Club":MAILTO:office@racsaddleclub.co.uk
END:VEVENT
BEGIN:VEVENT
DTSTART;TZID=Europe/London:20230529T093000
DTEND;TZID=Europe/London:20230529T143000
DTSTAMP:20260420T164419
CREATED:20221204T075211Z
LAST-MODIFIED:20221204T075211Z
UID:3189-1685352600-1685370600@www.racsaddleclub.co.uk
SUMMARY:XC Schooling - Course Open
DESCRIPTION:
URL:https://www.racsaddleclub.co.uk/event/xc-schooling-course-open-26/
LOCATION:RAC Saddle Club\, Bovington\, BH20 6JG
CATEGORIES:Course Hire,XC Schooling - Course Open
ORGANIZER;CN="RAC%20Saddle%20Club":MAILTO:office@racsaddleclub.co.uk
END:VEVENT
BEGIN:VEVENT
DTSTART;TZID=Europe/London:20230528T080000
DTEND;TZID=Europe/London:20230528T170000
DTSTAMP:20260420T164419
CREATED:20221204T075004Z
LAST-MODIFIED:20230313T175525Z
UID:3186-1685260800-1685293200@www.racsaddleclub.co.uk
SUMMARY:Unaffiliated ODE
DESCRIPTION:  \nUNAFFILIATED ONE DAY EVENT Horse Events Unaffiliated Eventing Championships 2023 Qualifier  \nChampionship held on the 23rd and 24th September at Dauntsey Park Horse Trials \nINCORPORATING \n\nPC AREA 14 EVENTER LEAGUE 2023\nWESSEX CONNEMARA PERFORMANCE DAY\nARMY EQUITATION ONE DAY EVENT\n\nCLICK HERE to enter.
URL:https://www.racsaddleclub.co.uk/event/unaffiliated-ode/
LOCATION:RAC Saddle Club\, Bovington\, BH20 6JG
CATEGORIES:Bovington ODE,Competition
ORGANIZER;CN="RAC%20Saddle%20Club":MAILTO:office@racsaddleclub.co.uk
END:VEVENT
BEGIN:VEVENT
DTSTART;TZID=Europe/London:20230507T093000
DTEND;TZID=Europe/London:20230507T140000
DTSTAMP:20260420T164419
CREATED:20230126T081631Z
LAST-MODIFIED:20230126T081631Z
UID:3351-1683451800-1683468000@www.racsaddleclub.co.uk
SUMMARY:XC Schooling
DESCRIPTION:
URL:https://www.racsaddleclub.co.uk/event/xc-schooling/
LOCATION:RAC Saddle Club\, Bovington\, BH20 6JG
CATEGORIES:Course Hire,XC Schooling - Course Open
ORGANIZER;CN="RAC%20Saddle%20Club":MAILTO:office@racsaddleclub.co.uk
END:VEVENT
BEGIN:VEVENT
DTSTART;TZID=Europe/London:20230501T093000
DTEND;TZID=Europe/London:20230501T160000
DTSTAMP:20260420T164419
CREATED:20221103T174410Z
LAST-MODIFIED:20221103T174410Z
UID:2813-1682933400-1682956800@www.racsaddleclub.co.uk
SUMMARY:Show Jumping Course Hire
DESCRIPTION:
URL:https://www.racsaddleclub.co.uk/event/show-jumping-course-hire-13/
LOCATION:RAC Saddle Club\, Bovington\, BH20 6JG
CATEGORIES:Course Hire
END:VEVENT
BEGIN:VEVENT
DTSTART;TZID=Europe/London:20230501T090000
DTEND;TZID=Europe/London:20230501T150000
DTSTAMP:20260420T164419
CREATED:20221103T174459Z
LAST-MODIFIED:20221103T174459Z
UID:2815-1682931600-1682953200@www.racsaddleclub.co.uk
SUMMARY:XC Schooling - Course Open
DESCRIPTION:
URL:https://www.racsaddleclub.co.uk/event/xc-schooling-course-open-10/
CATEGORIES:XC Schooling - Course Open
END:VEVENT
BEGIN:VEVENT
DTSTART;TZID=Europe/London:20230430T090000
DTEND;TZID=Europe/London:20230430T170000
DTSTAMP:20260420T164419
CREATED:20221103T171900Z
LAST-MODIFIED:20221103T171900Z
UID:2792-1682845200-1682874000@www.racsaddleclub.co.uk
SUMMARY:Bovington Eventer Challenge
DESCRIPTION:Show Jumping and XC only – No dressage.
URL:https://www.racsaddleclub.co.uk/event/bovington-eventer-challenge/
LOCATION:RAC Saddle Club\, Bovington\, BH20 6JG
CATEGORIES:Competition
END:VEVENT
BEGIN:VEVENT
DTSTART;VALUE=DATE:20230422
DTEND;VALUE=DATE:20230424
DTSTAMP:20260420T164419
CREATED:20230309T165408Z
LAST-MODIFIED:20230309T165935Z
UID:3400-1682150400-1682236799@www.racsaddleclub.co.uk
SUMMARY:XC Clinics with Steph Buchanan BHSI
DESCRIPTION:Calling all riders across the levels who are preparing to get back out eventing… don’t miss this clinic with Performance Coach\, BHSI\, Steph Buchanan who has more than 30 years’ experience coaching children and adults of all levels including horse and rider combinations that have placed at Badminton Grassroots. This is your chance to practice skinnies\, corners\, angles\, water and combinations under Steph’s skilful eye and improve and build your technique and confidence.\n\n\n9:30am up to 80cm\n11am 80cm plus\n\n\nSaturday 22 April 2023\nMaximum of 6 riders in the group.\nClinic length – 1.5 hours\n£40 per rider\n\nRefunds before closing date and less £5 admin fee.\n\nCLICK HERE to book.
URL:https://www.racsaddleclub.co.uk/event/xc-clinics-with-steph-buchanan-bhsi/
LOCATION:RAC Saddle Club\, Bovington\, BH20 6JG
CATEGORIES:Bovington BE,Bovington ODE,British Eventing,Clinic,XC Schooling - Course Open
ORGANIZER;CN="RAC%20Saddle%20Club":MAILTO:office@racsaddleclub.co.uk
END:VEVENT
BEGIN:VEVENT
DTSTART;TZID=Europe/London:20230417T093000
DTEND;TZID=Europe/London:20230417T160000
DTSTAMP:20260420T164419
CREATED:20221103T173354Z
LAST-MODIFIED:20221103T173637Z
UID:2801-1681723800-1681747200@www.racsaddleclub.co.uk
SUMMARY:Show Jumping Course Hire
DESCRIPTION:
URL:https://www.racsaddleclub.co.uk/event/show-jumping-course-hire-12/
LOCATION:RAC Saddle Club\, Bovington\, BH20 6JG
CATEGORIES:Course Hire
END:VEVENT
BEGIN:VEVENT
DTSTART;TZID=Europe/London:20230417T090000
DTEND;TZID=Europe/London:20230417T150000
DTSTAMP:20260420T164419
CREATED:20221103T173448Z
LAST-MODIFIED:20221103T173448Z
UID:2803-1681722000-1681743600@www.racsaddleclub.co.uk
SUMMARY:XC Schooling - Course Open
DESCRIPTION:
URL:https://www.racsaddleclub.co.uk/event/xc-schooling-course-open-9/
LOCATION:RAC Saddle Club\, Bovington\, BH20 6JG
CATEGORIES:XC Schooling - Course Open
END:VEVENT
BEGIN:VEVENT
DTSTART;TZID=Europe/London:20230416T080000
DTEND;TZID=Europe/London:20230416T170000
DTSTAMP:20260420T164419
CREATED:20221103T171614Z
LAST-MODIFIED:20221103T171614Z
UID:2786-1681632000-1681664400@www.racsaddleclub.co.uk
SUMMARY:Bovington BE
DESCRIPTION:This event is organised by British Eventing.
URL:https://www.racsaddleclub.co.uk/event/bovington-be-4/
LOCATION:RAC Saddle Club\, Bovington\, BH20 6JG
CATEGORIES:Bovington BE,Competition
END:VEVENT
BEGIN:VEVENT
DTSTART;TZID=Europe/London:20230415T080000
DTEND;TZID=Europe/London:20230415T170000
DTSTAMP:20260420T164419
CREATED:20221103T171527Z
LAST-MODIFIED:20221103T171653Z
UID:2784-1681545600-1681578000@www.racsaddleclub.co.uk
SUMMARY:Bovington BE
DESCRIPTION:This event is organised by British Eventing
URL:https://www.racsaddleclub.co.uk/event/bovington-be-3/
LOCATION:RAC Saddle Club\, Bovington\, BH20 6JG
CATEGORIES:Bovington BE,Competition
END:VEVENT
BEGIN:VEVENT
DTSTART;TZID=Europe/London:20230327T090000
DTEND;TZID=Europe/London:20230327T150000
DTSTAMP:20260420T164419
CREATED:20220805T144507Z
LAST-MODIFIED:20220805T144507Z
UID:2701-1679907600-1679929200@www.racsaddleclub.co.uk
SUMMARY:Arena XC Course Hire
DESCRIPTION:
URL:https://www.racsaddleclub.co.uk/event/arena-xc-course-hire-7/
LOCATION:RAC Saddle Club\, Bovington\, BH20 6JG
CATEGORIES:Arena XC,Course Hire
ORGANIZER;CN="RAC%20Saddle%20Club":MAILTO:office@racsaddleclub.co.uk
END:VEVENT
BEGIN:VEVENT
DTSTART;TZID=Europe/London:20230326T093000
DTEND;TZID=Europe/London:20230326T150000
DTSTAMP:20260420T164419
CREATED:20220805T144415Z
LAST-MODIFIED:20220805T144655Z
UID:2699-1679823000-1679842800@www.racsaddleclub.co.uk
SUMMARY:Arena XC Competition
DESCRIPTION:
URL:https://www.racsaddleclub.co.uk/event/arena-xc-competition-7/
LOCATION:RAC Saddle Club\, Bovington\, BH20 6JG
CATEGORIES:Arena XC,Competition
ORGANIZER;CN="RAC%20Saddle%20Club":MAILTO:office@racsaddleclub.co.uk
END:VEVENT
BEGIN:VEVENT
DTSTART;TZID=Europe/London:20230325T103000
DTEND;TZID=Europe/London:20230325T113000
DTSTAMP:20260420T164419
CREATED:20220805T144318Z
LAST-MODIFIED:20221103T162921Z
UID:2697-1679740200-1679743800@www.racsaddleclub.co.uk
SUMMARY:Arena XC Clinic
DESCRIPTION:
URL:https://www.racsaddleclub.co.uk/event/arena-xc-clinic-19/
LOCATION:RAC Saddle Club\, Bovington\, BH20 6JG
CATEGORIES:Arena XC,Clinic
ORGANIZER;CN="RAC%20Saddle%20Club":MAILTO:office@racsaddleclub.co.uk
END:VEVENT
BEGIN:VEVENT
DTSTART;TZID=Europe/London:20230325T093000
DTEND;TZID=Europe/London:20230325T103000
DTSTAMP:20260420T164419
CREATED:20220805T144217Z
LAST-MODIFIED:20221103T162947Z
UID:2695-1679736600-1679740200@www.racsaddleclub.co.uk
SUMMARY:Arena XC Clinic
DESCRIPTION:
URL:https://www.racsaddleclub.co.uk/event/arena-xc-clinic-18/
LOCATION:RAC Saddle Club\, Bovington\, BH20 6JG
CATEGORIES:Arena XC,Clinic
ORGANIZER;CN="RAC%20Saddle%20Club":MAILTO:office@racsaddleclub.co.uk
END:VEVENT
BEGIN:VEVENT
DTSTART;TZID=Europe/London:20230324T140000
DTEND;TZID=Europe/London:20230324T150000
DTSTAMP:20260420T164419
CREATED:20220805T142458Z
LAST-MODIFIED:20220805T142458Z
UID:2693-1679666400-1679670000@www.racsaddleclub.co.uk
SUMMARY:Arena XC Clinic
DESCRIPTION:
URL:https://www.racsaddleclub.co.uk/event/arena-xc-clinic-17/
LOCATION:RAC Saddle Club\, Bovington\, BH20 6JG
CATEGORIES:Arena XC,Clinic
ORGANIZER;CN="RAC%20Saddle%20Club":MAILTO:office@racsaddleclub.co.uk
END:VEVENT
END:VCALENDAR