BEGIN:VCALENDAR
VERSION:2.0
PRODID:-//Royal Armoured Corps Saddle Club, Bovington - ECPv6.0.3//NONSGML v1.0//EN
CALSCALE:GREGORIAN
METHOD:PUBLISH
X-WR-CALNAME:Royal Armoured Corps Saddle Club, Bovington
X-ORIGINAL-URL:https://www.racsaddleclub.co.uk
X-WR-CALDESC:Events for Royal Armoured Corps Saddle Club, Bovington
REFRESH-INTERVAL;VALUE=DURATION:PT1H
X-Robots-Tag:noindex
X-PUBLISHED-TTL:PT1H
BEGIN:VTIMEZONE
TZID:Europe/London
BEGIN:DAYLIGHT
TZOFFSETFROM:+0000
TZOFFSETTO:+0100
TZNAME:BST
DTSTART:20230326T010000
END:DAYLIGHT
BEGIN:STANDARD
TZOFFSETFROM:+0100
TZOFFSETTO:+0000
TZNAME:GMT
DTSTART:20231029T010000
END:STANDARD
END:VTIMEZONE
BEGIN:VEVENT
DTSTART;TZID=Europe/London:20231216T093000
DTEND;TZID=Europe/London:20231216T103000
DTSTAMP:20260420T134937
CREATED:20221201T144147Z
LAST-MODIFIED:20221204T083453Z
UID:3176-1702719000-1702722600@www.racsaddleclub.co.uk
SUMMARY:Show Jumping Clinic up to 80cm
DESCRIPTION:
URL:https://www.racsaddleclub.co.uk/event/show-jumping-clinic-up-to-80cm-4/
LOCATION:RAC Saddle Club\, Bovington\, BH20 6JG
CATEGORIES:Clinic,Show Jumping
ORGANIZER;CN="RAC%20Saddle%20Club":MAILTO:office@racsaddleclub.co.uk
END:VEVENT
BEGIN:VEVENT
DTSTART;TZID=Europe/London:20231215T140000
DTEND;TZID=Europe/London:20231215T140000
DTSTAMP:20260420T134937
CREATED:20221201T144133Z
LAST-MODIFIED:20221204T083127Z
UID:3175-1702648800-1702648800@www.racsaddleclub.co.uk
SUMMARY:Show Jumping Clinic
DESCRIPTION:
URL:https://www.racsaddleclub.co.uk/event/show-jumping-clinic-40/
LOCATION:RAC Saddle Club\, Bovington\, BH20 6JG
CATEGORIES:Clinic,Show Jumping
ORGANIZER;CN="RAC%20Saddle%20Club":MAILTO:office@racsaddleclub.co.uk
END:VEVENT
BEGIN:VEVENT
DTSTART;TZID=Europe/London:20231120T093000
DTEND;TZID=Europe/London:20231120T143000
DTSTAMP:20260420T134937
CREATED:20221201T144132Z
LAST-MODIFIED:20221204T083935Z
UID:3174-1700472600-1700490600@www.racsaddleclub.co.uk
SUMMARY:Arena XC Course Hire
DESCRIPTION:
URL:https://www.racsaddleclub.co.uk/event/arena-xc-course-hire-10/
LOCATION:RAC Saddle Club\, Bovington\, BH20 6JG
CATEGORIES:Arena XC,Course Hire
ORGANIZER;CN="RAC%20Saddle%20Club":MAILTO:office@racsaddleclub.co.uk
END:VEVENT
BEGIN:VEVENT
DTSTART;TZID=Europe/London:20231119T093000
DTEND;TZID=Europe/London:20231119T153000
DTSTAMP:20260420T134937
CREATED:20221201T144132Z
LAST-MODIFIED:20221204T083910Z
UID:3173-1700386200-1700407800@www.racsaddleclub.co.uk
SUMMARY:Arena XC Competition
DESCRIPTION:
URL:https://www.racsaddleclub.co.uk/event/arena-xc-competition-10/
LOCATION:RAC Saddle Club\, Bovington\, BH20 6JG
CATEGORIES:Arena XC,Competition
ORGANIZER;CN="RAC%20Saddle%20Club":MAILTO:office@racsaddleclub.co.uk
END:VEVENT
BEGIN:VEVENT
DTSTART;TZID=Europe/London:20231118T103000
DTEND;TZID=Europe/London:20231118T113000
DTSTAMP:20260420T134937
CREATED:20221201T144132Z
LAST-MODIFIED:20221204T084056Z
UID:3172-1700303400-1700307000@www.racsaddleclub.co.uk
SUMMARY:Arena XC Clinic 80cm+
DESCRIPTION:
URL:https://www.racsaddleclub.co.uk/event/arena-xc-clinic-80cm/
LOCATION:RAC Saddle Club\, Bovington\, BH20 6JG
CATEGORIES:Arena XC,Clinic
ORGANIZER;CN="RAC%20Saddle%20Club":MAILTO:office@racsaddleclub.co.uk
END:VEVENT
BEGIN:VEVENT
DTSTART;TZID=Europe/London:20231118T093000
DTEND;TZID=Europe/London:20231118T103000
DTSTAMP:20260420T134937
CREATED:20221201T144132Z
LAST-MODIFIED:20221204T083846Z
UID:3171-1700299800-1700303400@www.racsaddleclub.co.uk
SUMMARY:Arena XC Clinic up to 80cm
DESCRIPTION:
URL:https://www.racsaddleclub.co.uk/event/arena-xc-clinic-up-to-80cm-2/
LOCATION:RAC Saddle Club\, Bovington\, BH20 6JG
CATEGORIES:Arena XC,Clinic
ORGANIZER;CN="RAC%20Saddle%20Club":MAILTO:office@racsaddleclub.co.uk
END:VEVENT
BEGIN:VEVENT
DTSTART;TZID=Europe/London:20231117T140000
DTEND;TZID=Europe/London:20231117T150000
DTSTAMP:20260420T134937
CREATED:20221201T144118Z
LAST-MODIFIED:20221204T083824Z
UID:3170-1700229600-1700233200@www.racsaddleclub.co.uk
SUMMARY:Arena XC Clinic
DESCRIPTION:
URL:https://www.racsaddleclub.co.uk/event/arena-xc-clinic-22/
LOCATION:RAC Saddle Club\, Bovington\, BH20 6JG
CATEGORIES:Arena XC,Clinic
ORGANIZER;CN="RAC%20Saddle%20Club":MAILTO:office@racsaddleclub.co.uk
END:VEVENT
BEGIN:VEVENT
DTSTART;TZID=Europe/London:20231106T093000
DTEND;TZID=Europe/London:20231106T143000
DTSTAMP:20260420T134937
CREATED:20221201T144117Z
LAST-MODIFIED:20231031T105501Z
UID:3169-1699263000-1699281000@www.racsaddleclub.co.uk
SUMMARY:CANCELLED - Show Jumping Course Hire
DESCRIPTION:
URL:https://www.racsaddleclub.co.uk/event/show-jumping-course-hire-16/
LOCATION:RAC Saddle Club\, Bovington\, BH20 6JG
CATEGORIES:Course Hire,Show Jumping
ORGANIZER;CN="RAC%20Saddle%20Club":MAILTO:office@racsaddleclub.co.uk
END:VEVENT
BEGIN:VEVENT
DTSTART;TZID=Europe/London:20231105T093000
DTEND;TZID=Europe/London:20231105T150000
DTSTAMP:20260420T134937
CREATED:20221201T144117Z
LAST-MODIFIED:20231031T105441Z
UID:3168-1699176600-1699196400@www.racsaddleclub.co.uk
SUMMARY:CANCELLED - Show Jumping Competition
DESCRIPTION:
URL:https://www.racsaddleclub.co.uk/event/show-jumping-competition-13/
LOCATION:RAC Saddle Club\, Bovington\, BH20 6JG
CATEGORIES:Competition,Show Jumping
ORGANIZER;CN="RAC%20Saddle%20Club":MAILTO:office@racsaddleclub.co.uk
END:VEVENT
BEGIN:VEVENT
DTSTART;TZID=Europe/London:20231104T103000
DTEND;TZID=Europe/London:20231104T113000
DTSTAMP:20260420T134937
CREATED:20221201T144117Z
LAST-MODIFIED:20231031T104136Z
UID:3167-1699093800-1699097400@www.racsaddleclub.co.uk
SUMMARY:CANCELLED - Show Jumping Clinic 80cm+
DESCRIPTION:
URL:https://www.racsaddleclub.co.uk/event/show-jumping-clinic-80cm-2/
LOCATION:RAC Saddle Club\, Bovington\, BH20 6JG
CATEGORIES:Clinic,Show Jumping
ORGANIZER;CN="RAC%20Saddle%20Club":MAILTO:office@racsaddleclub.co.uk
END:VEVENT
BEGIN:VEVENT
DTSTART;TZID=Europe/London:20231104T093000
DTEND;TZID=Europe/London:20231104T103000
DTSTAMP:20260420T134937
CREATED:20221201T144117Z
LAST-MODIFIED:20231031T104118Z
UID:3166-1699090200-1699093800@www.racsaddleclub.co.uk
SUMMARY:CANCELLED - Show Jumping Clinic up to 80cm
DESCRIPTION:
URL:https://www.racsaddleclub.co.uk/event/show-jumping-clinic-up-to-80cm-3/
LOCATION:RAC Saddle Club\, Bovington\, BH20 6JG
CATEGORIES:Clinic,Show Jumping
ORGANIZER;CN="RAC%20Saddle%20Club":MAILTO:office@racsaddleclub.co.uk
END:VEVENT
BEGIN:VEVENT
DTSTART;TZID=Europe/London:20231103T140000
DTEND;TZID=Europe/London:20231103T150000
DTSTAMP:20260420T134937
CREATED:20221204T082637Z
LAST-MODIFIED:20231031T104033Z
UID:3236-1699020000-1699023600@www.racsaddleclub.co.uk
SUMMARY:CANCELLED - Show Jumping Clinic
DESCRIPTION:
URL:https://www.racsaddleclub.co.uk/event/show-jumping-clinic-41/
LOCATION:RAC Saddle Club\, Bovington\, BH20 6JG
CATEGORIES:Clinic,Show Jumping
ORGANIZER;CN="RAC%20Saddle%20Club":MAILTO:office@racsaddleclub.co.uk
END:VEVENT
BEGIN:VEVENT
DTSTART;TZID=Europe/London:20231025T093000
DTEND;TZID=Europe/London:20231025T150000
DTSTAMP:20260420T134937
CREATED:20221201T144102Z
LAST-MODIFIED:20221204T084412Z
UID:3164-1698226200-1698246000@www.racsaddleclub.co.uk
SUMMARY:U25 Show Jumping Competition
DESCRIPTION:
URL:https://www.racsaddleclub.co.uk/event/u25-show-jumping-competition-4/
LOCATION:RAC Saddle Club\, Bovington\, BH20 6JG
CATEGORIES:Competition,Show Jumping
ORGANIZER;CN="RAC%20Saddle%20Club":MAILTO:office@racsaddleclub.co.uk
END:VEVENT
BEGIN:VEVENT
DTSTART;TZID=Europe/London:20231023T093000
DTEND;TZID=Europe/London:20231023T143000
DTSTAMP:20260420T134937
CREATED:20221201T144102Z
LAST-MODIFIED:20221204T084346Z
UID:3163-1698053400-1698071400@www.racsaddleclub.co.uk
SUMMARY:Show Jumping Course Hire and XC Schooling – Course Open
DESCRIPTION:
URL:https://www.racsaddleclub.co.uk/event/show-jumping-course-hire-xc-schooling-course-open-6/
LOCATION:RAC Saddle Club\, Bovington\, BH20 6JG
CATEGORIES:Course Hire,Show Jumping,XC Schooling - Course Open
ORGANIZER;CN="RAC%20Saddle%20Club":MAILTO:office@racsaddleclub.co.uk
END:VEVENT
BEGIN:VEVENT
DTSTART;TZID=Europe/London:20231022T090000
DTEND;TZID=Europe/London:20231022T150000
DTSTAMP:20260420T134937
CREATED:20221201T144102Z
LAST-MODIFIED:20221204T084245Z
UID:3162-1697965200-1697986800@www.racsaddleclub.co.uk
SUMMARY:Bovington Eventer Challenge
DESCRIPTION:
URL:https://www.racsaddleclub.co.uk/event/bovington-eventer-challenge-4/
LOCATION:RAC Saddle Club\, Bovington\, BH20 6JG
CATEGORIES:Competition,Eventer Challenge,Hunter Trial,Show Jumping
ORGANIZER;CN="RAC%20Saddle%20Club":MAILTO:office@racsaddleclub.co.uk
END:VEVENT
BEGIN:VEVENT
DTSTART;TZID=Europe/London:20231016T093000
DTEND;TZID=Europe/London:20231016T143000
DTSTAMP:20260420T134937
CREATED:20221201T144102Z
LAST-MODIFIED:20221204T084321Z
UID:3161-1697448600-1697466600@www.racsaddleclub.co.uk
SUMMARY:Show Jumping Course Hire and XC Schooling – Course Open
DESCRIPTION:
URL:https://www.racsaddleclub.co.uk/event/show-jumping-course-hire-xc-schooling-course-open-5/
LOCATION:RAC Saddle Club\, Bovington\, BH20 6JG
CATEGORIES:Course Hire,Show Jumping,XC Schooling - Course Open
ORGANIZER;CN="RAC%20Saddle%20Club":MAILTO:office@racsaddleclub.co.uk
END:VEVENT
BEGIN:VEVENT
DTSTART;TZID=Europe/London:20231015T080000
DTEND;TZID=Europe/London:20231015T170000
DTSTAMP:20260420T134937
CREATED:20221201T144047Z
LAST-MODIFIED:20221204T084200Z
UID:3160-1697356800-1697389200@www.racsaddleclub.co.uk
SUMMARY:Bovington BE
DESCRIPTION:
URL:https://www.racsaddleclub.co.uk/event/bovington-be-10/
LOCATION:RAC Saddle Club\, Bovington\, BH20 6JG
CATEGORIES:British Eventing,Competition
ORGANIZER;CN="RAC%20Saddle%20Club":MAILTO:office@racsaddleclub.co.uk
END:VEVENT
BEGIN:VEVENT
DTSTART;TZID=Europe/London:20231014T080000
DTEND;TZID=Europe/London:20231014T170000
DTSTAMP:20260420T134937
CREATED:20221201T144047Z
LAST-MODIFIED:20221204T084140Z
UID:3159-1697270400-1697302800@www.racsaddleclub.co.uk
SUMMARY:Bovington BE
DESCRIPTION:
URL:https://www.racsaddleclub.co.uk/event/bovington-be-9/
LOCATION:RAC Saddle Club\, Bovington\, BH20 6JG
CATEGORIES:British Eventing,Competition
ORGANIZER;CN="RAC%20Saddle%20Club":MAILTO:office@racsaddleclub.co.uk
END:VEVENT
BEGIN:VEVENT
DTSTART;TZID=Europe/London:20230911T093000
DTEND;TZID=Europe/London:20230911T143000
DTSTAMP:20260420T134937
CREATED:20221201T144047Z
LAST-MODIFIED:20221204T084534Z
UID:3158-1694424600-1694442600@www.racsaddleclub.co.uk
SUMMARY:XC Schooling – Course Open
DESCRIPTION:
URL:https://www.racsaddleclub.co.uk/event/xc-schooling-course-open-25/
LOCATION:RAC Saddle Club\, Bovington\, BH20 6JG
CATEGORIES:Course Hire,XC Schooling - Course Open
ORGANIZER;CN="RAC%20Saddle%20Club":MAILTO:office@racsaddleclub.co.uk
END:VEVENT
BEGIN:VEVENT
DTSTART;TZID=Europe/London:20230910T090000
DTEND;TZID=Europe/London:20230910T160000
DTSTAMP:20260420T134937
CREATED:20221201T144047Z
LAST-MODIFIED:20221204T084512Z
UID:3157-1694336400-1694361600@www.racsaddleclub.co.uk
SUMMARY:Bovington Hunter Trial
DESCRIPTION:
URL:https://www.racsaddleclub.co.uk/event/bovington-hunter-trial-3/
LOCATION:RAC Saddle Club\, Bovington\, BH20 6JG
CATEGORIES:Competition,Hunter Trial
ORGANIZER;CN="RAC%20Saddle%20Club":MAILTO:office@racsaddleclub.co.uk
END:VEVENT
BEGIN:VEVENT
DTSTART;TZID=Europe/London:20230827T093000
DTEND;TZID=Europe/London:20230827T143000
DTSTAMP:20260420T134937
CREATED:20221201T144047Z
LAST-MODIFIED:20230707T115716Z
UID:3156-1693128600-1693146600@www.racsaddleclub.co.uk
SUMMARY:Open Fun Show In Hand & Ridden
DESCRIPTION:
URL:https://www.racsaddleclub.co.uk/event/xc-schooling-course-open-24/
LOCATION:RAC Saddle Club\, Bovington\, BH20 6JG
CATEGORIES:Competition
ORGANIZER;CN="RAC%20Saddle%20Club":MAILTO:office@racsaddleclub.co.uk
END:VEVENT
BEGIN:VEVENT
DTSTART;TZID=Europe/London:20230826T093000
DTEND;TZID=Europe/London:20230826T143000
DTSTAMP:20260420T134937
CREATED:20221201T144032Z
LAST-MODIFIED:20221204T090149Z
UID:3155-1693042200-1693060200@www.racsaddleclub.co.uk
SUMMARY:XC Schooling – Course Open
DESCRIPTION:
URL:https://www.racsaddleclub.co.uk/event/xc-schooling-course-open-23/
LOCATION:RAC Saddle Club\, Bovington\, BH20 6JG
CATEGORIES:Course Hire,XC Schooling - Course Open
ORGANIZER;CN="RAC%20Saddle%20Club":MAILTO:office@racsaddleclub.co.uk
END:VEVENT
BEGIN:VEVENT
DTSTART;VALUE=DATE:20230821
DTEND;VALUE=DATE:20230825
DTSTAMP:20260420T134937
CREATED:20221201T144032Z
LAST-MODIFIED:20221204T085126Z
UID:3152-1692604800-1692863999@www.racsaddleclub.co.uk
SUMMARY:RAC Pony Club Members Residential Junior Camp  (Aged 9+) Jumping 60cm to 75cm
DESCRIPTION:
URL:https://www.racsaddleclub.co.uk/event/rac-pony-club-members-residential-junior-camp-aged-9-jumping-60cm-to-75cm-7/
LOCATION:RAC Saddle Club\, Bovington\, BH20 6JG
CATEGORIES:Camps
ORGANIZER;CN="RAC%20Saddle%20Club":MAILTO:office@racsaddleclub.co.uk
END:VEVENT
BEGIN:VEVENT
DTSTART;VALUE=DATE:20230818
DTEND;VALUE=DATE:20230822
DTSTAMP:20260420T134937
CREATED:20221201T144017Z
LAST-MODIFIED:20221204T085019Z
UID:3149-1692345600-1692604799@www.racsaddleclub.co.uk
SUMMARY:Adult Camp (arrive from 4pm Friday)
DESCRIPTION:
URL:https://www.racsaddleclub.co.uk/event/adult-camp-arrive-from-4pm-friday-12/
LOCATION:RAC Saddle Club\, Bovington\, BH20 6JG
CATEGORIES:Camps
ORGANIZER;CN="RAC%20Saddle%20Club":MAILTO:office@racsaddleclub.co.uk
END:VEVENT
BEGIN:VEVENT
DTSTART;VALUE=DATE:20230816
DTEND;VALUE=DATE:20230819
DTSTAMP:20260420T134937
CREATED:20221201T144017Z
LAST-MODIFIED:20221204T084941Z
UID:3147-1692172800-1692345599@www.racsaddleclub.co.uk
SUMMARY:RAC Minis Pony Club Members Non-Residential Camp (Aged 6 to 8 approx.) WTC\, Poles or Jumping 40cm to 50cm
DESCRIPTION:
URL:https://www.racsaddleclub.co.uk/event/rac-minis-pony-club-members-non-residential-camp-aged-6-to-8-approx-wtc-poles-or-jumping-40cm-to-50cm-5/
LOCATION:RAC Saddle Club\, Bovington\, BH20 6JG
CATEGORIES:Camps
ORGANIZER;CN="RAC%20Saddle%20Club":MAILTO:office@racsaddleclub.co.uk
END:VEVENT
BEGIN:VEVENT
DTSTART;VALUE=DATE:20230813
DTEND;VALUE=DATE:20230817
DTSTAMP:20260420T134937
CREATED:20221201T144003Z
LAST-MODIFIED:20221204T084841Z
UID:3144-1691913600-1692172799@www.racsaddleclub.co.uk
SUMMARY:RAC Pony Club Members Residential CampIntermediates jumping 70cm to 85cm
DESCRIPTION:
URL:https://www.racsaddleclub.co.uk/event/rac-pony-club-members-residential-campintermediates-jumping-70cm-to-85cm-7/
LOCATION:RAC Saddle Club\, Bovington\, BH20 6JG
CATEGORIES:Camps
ORGANIZER;CN="RAC%20Saddle%20Club":MAILTO:office@racsaddleclub.co.uk
END:VEVENT
BEGIN:VEVENT
DTSTART;VALUE=DATE:20230807
DTEND;VALUE=DATE:20230812
DTSTAMP:20260420T134937
CREATED:20221201T143947Z
LAST-MODIFIED:20221204T084748Z
UID:3140-1691395200-1691740799@www.racsaddleclub.co.uk
SUMMARY:Junior Academy Camp – Riders jumping 60cm to 90cmOpen to non-RAC members on their own horses/ponies
DESCRIPTION:
URL:https://www.racsaddleclub.co.uk/event/junior-academy-camp-riders-jumping-60cm-to-90cmopen-to-non-rac-members-on-their-own-horses-ponies-9/
LOCATION:RAC Saddle Club\, Bovington\, BH20 6JG
CATEGORIES:Camps
ORGANIZER;CN="RAC%20Saddle%20Club":MAILTO:office@racsaddleclub.co.uk
END:VEVENT
BEGIN:VEVENT
DTSTART;VALUE=DATE:20230731
DTEND;VALUE=DATE:20230805
DTSTAMP:20260420T134937
CREATED:20221201T143932Z
LAST-MODIFIED:20221204T085548Z
UID:3135-1690790400-1691135999@www.racsaddleclub.co.uk
SUMMARY:Eventers Camp (Age 12 to 25) – Riders competing 80cm + Residential for children aged 14 + only
DESCRIPTION:
URL:https://www.racsaddleclub.co.uk/event/eventers-camp-age-12-to-25-riders-competing-80cm-residential-for-children-aged-14-only-9/
LOCATION:RAC Saddle Club\, Bovington\, BH20 6JG
CATEGORIES:Camps
ORGANIZER;CN="RAC%20Saddle%20Club":MAILTO:office@racsaddleclub.co.uk
END:VEVENT
BEGIN:VEVENT
DTSTART;TZID=Europe/London:20230710T093000
DTEND;TZID=Europe/London:20230710T153000
DTSTAMP:20260420T134937
CREATED:20230421T154543Z
LAST-MODIFIED:20230421T154543Z
UID:3483-1688981400-1689003000@www.racsaddleclub.co.uk
SUMMARY:Show Jumping Course Hire
DESCRIPTION:
URL:https://www.racsaddleclub.co.uk/event/show-jumping-course-hire-22/
LOCATION:RAC Saddle Club\, Bovington\, BH20 6JG
CATEGORIES:Course Hire,Show Jumping
ORGANIZER;CN="RAC%20Saddle%20Club":MAILTO:office@racsaddleclub.co.uk
END:VEVENT
BEGIN:VEVENT
DTSTART;TZID=Europe/London:20230709T093000
DTEND;TZID=Europe/London:20230709T140000
DTSTAMP:20260420T134937
CREATED:20230421T154449Z
LAST-MODIFIED:20230421T154455Z
UID:3481-1688895000-1688911200@www.racsaddleclub.co.uk
SUMMARY:Show Jumping Competition
DESCRIPTION:
URL:https://www.racsaddleclub.co.uk/event/show-jumping-competition-14/
LOCATION:RAC Saddle Club\, Bovington\, BH20 6JG
CATEGORIES:Competition,Show Jumping
ORGANIZER;CN="RAC%20Saddle%20Club":MAILTO:office@racsaddleclub.co.uk
END:VEVENT
END:VCALENDAR