BEGIN:VCALENDAR
VERSION:2.0
PRODID:-//Royal Armoured Corps Saddle Club, Bovington - ECPv6.0.3//NONSGML v1.0//EN
CALSCALE:GREGORIAN
METHOD:PUBLISH
X-WR-CALNAME:Royal Armoured Corps Saddle Club, Bovington
X-ORIGINAL-URL:https://www.racsaddleclub.co.uk
X-WR-CALDESC:Events for Royal Armoured Corps Saddle Club, Bovington
REFRESH-INTERVAL;VALUE=DURATION:PT1H
X-Robots-Tag:noindex
X-PUBLISHED-TTL:PT1H
BEGIN:VTIMEZONE
TZID:Europe/London
BEGIN:DAYLIGHT
TZOFFSETFROM:+0000
TZOFFSETTO:+0100
TZNAME:BST
DTSTART:20230326T010000
END:DAYLIGHT
BEGIN:STANDARD
TZOFFSETFROM:+0100
TZOFFSETTO:+0000
TZNAME:GMT
DTSTART:20231029T010000
END:STANDARD
BEGIN:DAYLIGHT
TZOFFSETFROM:+0000
TZOFFSETTO:+0100
TZNAME:BST
DTSTART:20240331T010000
END:DAYLIGHT
BEGIN:STANDARD
TZOFFSETFROM:+0100
TZOFFSETTO:+0000
TZNAME:GMT
DTSTART:20241027T010000
END:STANDARD
END:VTIMEZONE
BEGIN:VEVENT
DTSTART;TZID=Europe/London:20240403T093000
DTEND;TZID=Europe/London:20240403T093000
DTSTAMP:20260420T192138
CREATED:20231101T163753Z
LAST-MODIFIED:20231101T163753Z
UID:3896-1712136600-1712136600@www.racsaddleclub.co.uk
SUMMARY:Easter Under 25 Show Jumping Competition
DESCRIPTION:
URL:https://www.racsaddleclub.co.uk/event/easter-under-25-show-jumping-competition-2/
CATEGORIES:Show Jumping
END:VEVENT
BEGIN:VEVENT
DTSTART;TZID=Europe/London:20240325T093000
DTEND;TZID=Europe/London:20240325T093000
DTSTAMP:20260420T192138
CREATED:20231101T163738Z
LAST-MODIFIED:20240116T124031Z
UID:3893-1711359000-1711359000@www.racsaddleclub.co.uk
SUMMARY:Show Jumping Course Hire
DESCRIPTION:
URL:https://www.racsaddleclub.co.uk/event/show-jumping-course-hire-24/
LOCATION:RAC Saddle Club\, Bovington\, BH20 6JG
CATEGORIES:Show Jumping
ORGANIZER;CN="RAC%20Saddle%20Club":MAILTO:office@racsaddleclub.co.uk
END:VEVENT
BEGIN:VEVENT
DTSTART;TZID=Europe/London:20240324T093000
DTEND;TZID=Europe/London:20240324T093000
DTSTAMP:20260420T192138
CREATED:20231101T163738Z
LAST-MODIFIED:20240116T124122Z
UID:3892-1711272600-1711272600@www.racsaddleclub.co.uk
SUMMARY:Show Jumping Comp
DESCRIPTION:
URL:https://www.racsaddleclub.co.uk/event/show-jumping-comp-2/
LOCATION:RAC Saddle Club\, Bovington\, BH20 6JG
CATEGORIES:Show Jumping
ORGANIZER;CN="RAC%20Saddle%20Club":MAILTO:office@racsaddleclub.co.uk
END:VEVENT
BEGIN:VEVENT
DTSTART;TZID=Europe/London:20240323T093000
DTEND;TZID=Europe/London:20240323T093000
DTSTAMP:20260420T192138
CREATED:20231101T163738Z
LAST-MODIFIED:20240116T123930Z
UID:3891-1711186200-1711186200@www.racsaddleclub.co.uk
SUMMARY:Show Jumping Clinics
DESCRIPTION:
URL:https://www.racsaddleclub.co.uk/event/show-jumping-clinics-11/
LOCATION:RAC Saddle Club\, Bovington\, BH20 6JG
CATEGORIES:Show Jumping
ORGANIZER;CN="RAC%20Saddle%20Club":MAILTO:office@racsaddleclub.co.uk
END:VEVENT
BEGIN:VEVENT
DTSTART;TZID=Europe/London:20240322T140000
DTEND;TZID=Europe/London:20240322T140000
DTSTAMP:20260420T192138
CREATED:20231101T163738Z
LAST-MODIFIED:20240116T123832Z
UID:3890-1711116000-1711116000@www.racsaddleclub.co.uk
SUMMARY:Show Jumping Clinic
DESCRIPTION:
URL:https://www.racsaddleclub.co.uk/event/show-jumping-clinics-10/
LOCATION:RAC Saddle Club\, Bovington\, BH20 6JG
CATEGORIES:Show Jumping
ORGANIZER;CN="RAC%20Saddle%20Club":MAILTO:office@racsaddleclub.co.uk
END:VEVENT
BEGIN:VEVENT
DTSTART;TZID=Europe/London:20240310T093000
DTEND;TZID=Europe/London:20240310T093000
DTSTAMP:20260420T192138
CREATED:20231101T163738Z
LAST-MODIFIED:20231101T163738Z
UID:3894-1710063000-1710063000@www.racsaddleclub.co.uk
SUMMARY:Fun Dressage Comp
DESCRIPTION:
URL:https://www.racsaddleclub.co.uk/event/fun-dressage-comp-4/
CATEGORIES:Dressage
END:VEVENT
BEGIN:VEVENT
DTSTART;TZID=Europe/London:20240226T093000
DTEND;TZID=Europe/London:20240226T093000
DTSTAMP:20260420T192138
CREATED:20231101T163723Z
LAST-MODIFIED:20231101T163723Z
UID:3889-1708939800-1708939800@www.racsaddleclub.co.uk
SUMMARY:Arena Eventing Course Hire
DESCRIPTION:
URL:https://www.racsaddleclub.co.uk/event/arena-eventing-course-hire-3/
CATEGORIES:Arena XC
END:VEVENT
BEGIN:VEVENT
DTSTART;TZID=Europe/London:20240225T093000
DTEND;TZID=Europe/London:20240225T093000
DTSTAMP:20260420T192138
CREATED:20231101T163723Z
LAST-MODIFIED:20231101T163723Z
UID:3888-1708853400-1708853400@www.racsaddleclub.co.uk
SUMMARY:Arena Eventers Challenge
DESCRIPTION:
URL:https://www.racsaddleclub.co.uk/event/arena-eventers-challenge-2/
CATEGORIES:Arena XC
END:VEVENT
BEGIN:VEVENT
DTSTART;TZID=Europe/London:20240224T093000
DTEND;TZID=Europe/London:20240224T093000
DTSTAMP:20260420T192138
CREATED:20231101T163723Z
LAST-MODIFIED:20231101T163723Z
UID:3887-1708767000-1708767000@www.racsaddleclub.co.uk
SUMMARY:Arena Eventing Clinic
DESCRIPTION:
URL:https://www.racsaddleclub.co.uk/event/arena-eventing-clinic-4/
CATEGORIES:Arena XC
END:VEVENT
BEGIN:VEVENT
DTSTART;TZID=Europe/London:20240223T140000
DTEND;TZID=Europe/London:20240223T140000
DTSTAMP:20260420T192138
CREATED:20231101T163723Z
LAST-MODIFIED:20231101T163723Z
UID:3886-1708696800-1708696800@www.racsaddleclub.co.uk
SUMMARY:Arena Eventing Clinic
DESCRIPTION:
URL:https://www.racsaddleclub.co.uk/event/arena-eventing-clinic-3/
CATEGORIES:Arena XC
END:VEVENT
BEGIN:VEVENT
DTSTART;TZID=Europe/London:20240214T093000
DTEND;TZID=Europe/London:20240214T093000
DTSTAMP:20260420T192138
CREATED:20231101T163723Z
LAST-MODIFIED:20231101T163723Z
UID:3885-1707903000-1707903000@www.racsaddleclub.co.uk
SUMMARY:Valentine Under 25 Show Jumping Competition
DESCRIPTION:
URL:https://www.racsaddleclub.co.uk/event/valentine-under-25-show-jumping-competition-2/
CATEGORIES:Show Jumping
END:VEVENT
BEGIN:VEVENT
DTSTART;TZID=Europe/London:20240211T093000
DTEND;TZID=Europe/London:20240211T093000
DTSTAMP:20260420T192138
CREATED:20231101T163708Z
LAST-MODIFIED:20231101T163708Z
UID:3884-1707643800-1707643800@www.racsaddleclub.co.uk
SUMMARY:Fun Dressage Comp
DESCRIPTION:
URL:https://www.racsaddleclub.co.uk/event/fun-dressage-comp-3/
CATEGORIES:Dressage
END:VEVENT
BEGIN:VEVENT
DTSTART;TZID=Europe/London:20240205T093000
DTEND;TZID=Europe/London:20240205T093000
DTSTAMP:20260420T192138
CREATED:20231101T163708Z
LAST-MODIFIED:20231101T163708Z
UID:3883-1707125400-1707125400@www.racsaddleclub.co.uk
SUMMARY:Show Jumping Course Hire
DESCRIPTION:
URL:https://www.racsaddleclub.co.uk/event/show-jumping-course-hire-23/
CATEGORIES:Show Jumping
END:VEVENT
BEGIN:VEVENT
DTSTART;TZID=Europe/London:20240204T093000
DTEND;TZID=Europe/London:20240204T093000
DTSTAMP:20260420T192138
CREATED:20231101T163707Z
LAST-MODIFIED:20231101T163707Z
UID:3882-1707039000-1707039000@www.racsaddleclub.co.uk
SUMMARY:Show Jumping Competition
DESCRIPTION:
URL:https://www.racsaddleclub.co.uk/event/show-jumping-competition-16/
CATEGORIES:Show Jumping
END:VEVENT
BEGIN:VEVENT
DTSTART;TZID=Europe/London:20240203T093000
DTEND;TZID=Europe/London:20240203T093000
DTSTAMP:20260420T192138
CREATED:20231101T163707Z
LAST-MODIFIED:20231101T163707Z
UID:3881-1706952600-1706952600@www.racsaddleclub.co.uk
SUMMARY:Show Jumping Clinics
DESCRIPTION:
URL:https://www.racsaddleclub.co.uk/event/show-jumping-clinics-9/
CATEGORIES:Show Jumping
END:VEVENT
BEGIN:VEVENT
DTSTART;TZID=Europe/London:20240202T140000
DTEND;TZID=Europe/London:20240202T140000
DTSTAMP:20260420T192138
CREATED:20231101T163707Z
LAST-MODIFIED:20231101T163707Z
UID:3880-1706882400-1706882400@www.racsaddleclub.co.uk
SUMMARY:Show Jumping Clinic
DESCRIPTION:
URL:https://www.racsaddleclub.co.uk/event/show-jumping-clinic-34/
CATEGORIES:Show Jumping
END:VEVENT
BEGIN:VEVENT
DTSTART;TZID=Europe/London:20240121T093000
DTEND;TZID=Europe/London:20240121T093000
DTSTAMP:20260420T192138
CREATED:20231101T163706Z
LAST-MODIFIED:20231101T163706Z
UID:3879-1705829400-1705829400@www.racsaddleclub.co.uk
SUMMARY:Jo Rimmer & Joe Roome Pre-Season Preparation Clinic
DESCRIPTION:
URL:https://www.racsaddleclub.co.uk/event/jo-rimmer-joe-roome-pre-season-preparation-clinic-2/
CATEGORIES:Eventing
END:VEVENT
BEGIN:VEVENT
DTSTART;TZID=Europe/London:20240108T093000
DTEND;TZID=Europe/London:20240108T093000
DTSTAMP:20260420T192138
CREATED:20231101T163706Z
LAST-MODIFIED:20231101T163706Z
UID:3878-1704706200-1704706200@www.racsaddleclub.co.uk
SUMMARY:Show Jumping Course Hire
DESCRIPTION:
URL:https://www.racsaddleclub.co.uk/event/show-jumping-course-hire-19/
CATEGORIES:Show Jumping
END:VEVENT
BEGIN:VEVENT
DTSTART;TZID=Europe/London:20240107T093000
DTEND;TZID=Europe/London:20240107T093000
DTSTAMP:20260420T192138
CREATED:20231101T163706Z
LAST-MODIFIED:20231101T163706Z
UID:3877-1704619800-1704619800@www.racsaddleclub.co.uk
SUMMARY:Show Jumping Competition
DESCRIPTION:
URL:https://www.racsaddleclub.co.uk/event/show-jumping-competition-15/
CATEGORIES:Show Jumping
END:VEVENT
BEGIN:VEVENT
DTSTART;TZID=Europe/London:20240106T093000
DTEND;TZID=Europe/London:20240106T093000
DTSTAMP:20260420T192138
CREATED:20231101T163706Z
LAST-MODIFIED:20231101T163706Z
UID:3876-1704533400-1704533400@www.racsaddleclub.co.uk
SUMMARY:Show Jumping Clinics
DESCRIPTION:
URL:https://www.racsaddleclub.co.uk/event/show-jumping-clinics-8/
CATEGORIES:Show Jumping
END:VEVENT
BEGIN:VEVENT
DTSTART;TZID=Europe/London:20240105T140000
DTEND;TZID=Europe/London:20240105T140000
DTSTAMP:20260420T192138
CREATED:20231101T163705Z
LAST-MODIFIED:20231101T163705Z
UID:3875-1704463200-1704463200@www.racsaddleclub.co.uk
SUMMARY:Show Jumping Clinics
DESCRIPTION:
URL:https://www.racsaddleclub.co.uk/event/show-jumping-clinics-7/
CATEGORIES:Show Jumping
END:VEVENT
BEGIN:VEVENT
DTSTART;TZID=Europe/London:20231218T083000
DTEND;TZID=Europe/London:20231218T143000
DTSTAMP:20260420T192138
CREATED:20221201T144147Z
LAST-MODIFIED:20221201T152215Z
UID:3179-1702888200-1702909800@www.racsaddleclub.co.uk
SUMMARY:Show Jumping Course Hire
DESCRIPTION:
URL:https://www.racsaddleclub.co.uk/event/show-jumping-course-hire-20/
LOCATION:RAC Saddle Club\, Bovington\, BH20 6JG
CATEGORIES:Course Hire,Show Jumping
ORGANIZER;CN="RAC%20Saddle%20Club":MAILTO:office@racsaddleclub.co.uk
END:VEVENT
BEGIN:VEVENT
DTSTART;TZID=Europe/London:20231217T090000
DTEND;TZID=Europe/London:20231217T150000
DTSTAMP:20260420T192138
CREATED:20221201T144147Z
LAST-MODIFIED:20221223T163455Z
UID:3178-1702803600-1702825200@www.racsaddleclub.co.uk
SUMMARY:Pony Club Xmas Show Jumping Competition
DESCRIPTION:Open to adults and children.
URL:https://www.racsaddleclub.co.uk/event/pony-club-xmas-show-jumping-competition-u25-3/
LOCATION:RAC Saddle Club\, Bovington\, BH20 6JG
CATEGORIES:Competition,Show Jumping
ORGANIZER;CN="RAC%20Saddle%20Club":MAILTO:office@racsaddleclub.co.uk
END:VEVENT
BEGIN:VEVENT
DTSTART;TZID=Europe/London:20231216T103000
DTEND;TZID=Europe/London:20231216T113000
DTSTAMP:20260420T192138
CREATED:20221201T144147Z
LAST-MODIFIED:20221204T083516Z
UID:3177-1702722600-1702726200@www.racsaddleclub.co.uk
SUMMARY:Show Jumping Clinic 80cm+
DESCRIPTION:
URL:https://www.racsaddleclub.co.uk/event/show-jumping-clinic-80cm-3/
LOCATION:RAC Saddle Club\, Bovington\, BH20 6JG
CATEGORIES:Clinic,Show Jumping
ORGANIZER;CN="RAC%20Saddle%20Club":MAILTO:office@racsaddleclub.co.uk
END:VEVENT
BEGIN:VEVENT
DTSTART;TZID=Europe/London:20231216T093000
DTEND;TZID=Europe/London:20231216T103000
DTSTAMP:20260420T192138
CREATED:20221201T144147Z
LAST-MODIFIED:20221204T083453Z
UID:3176-1702719000-1702722600@www.racsaddleclub.co.uk
SUMMARY:Show Jumping Clinic up to 80cm
DESCRIPTION:
URL:https://www.racsaddleclub.co.uk/event/show-jumping-clinic-up-to-80cm-4/
LOCATION:RAC Saddle Club\, Bovington\, BH20 6JG
CATEGORIES:Clinic,Show Jumping
ORGANIZER;CN="RAC%20Saddle%20Club":MAILTO:office@racsaddleclub.co.uk
END:VEVENT
BEGIN:VEVENT
DTSTART;TZID=Europe/London:20231215T140000
DTEND;TZID=Europe/London:20231215T140000
DTSTAMP:20260420T192138
CREATED:20221201T144133Z
LAST-MODIFIED:20221204T083127Z
UID:3175-1702648800-1702648800@www.racsaddleclub.co.uk
SUMMARY:Show Jumping Clinic
DESCRIPTION:
URL:https://www.racsaddleclub.co.uk/event/show-jumping-clinic-40/
LOCATION:RAC Saddle Club\, Bovington\, BH20 6JG
CATEGORIES:Clinic,Show Jumping
ORGANIZER;CN="RAC%20Saddle%20Club":MAILTO:office@racsaddleclub.co.uk
END:VEVENT
BEGIN:VEVENT
DTSTART;TZID=Europe/London:20231120T093000
DTEND;TZID=Europe/London:20231120T143000
DTSTAMP:20260420T192138
CREATED:20221201T144132Z
LAST-MODIFIED:20221204T083935Z
UID:3174-1700472600-1700490600@www.racsaddleclub.co.uk
SUMMARY:Arena XC Course Hire
DESCRIPTION:
URL:https://www.racsaddleclub.co.uk/event/arena-xc-course-hire-10/
LOCATION:RAC Saddle Club\, Bovington\, BH20 6JG
CATEGORIES:Arena XC,Course Hire
ORGANIZER;CN="RAC%20Saddle%20Club":MAILTO:office@racsaddleclub.co.uk
END:VEVENT
BEGIN:VEVENT
DTSTART;TZID=Europe/London:20231119T093000
DTEND;TZID=Europe/London:20231119T153000
DTSTAMP:20260420T192138
CREATED:20221201T144132Z
LAST-MODIFIED:20221204T083910Z
UID:3173-1700386200-1700407800@www.racsaddleclub.co.uk
SUMMARY:Arena XC Competition
DESCRIPTION:
URL:https://www.racsaddleclub.co.uk/event/arena-xc-competition-10/
LOCATION:RAC Saddle Club\, Bovington\, BH20 6JG
CATEGORIES:Arena XC,Competition
ORGANIZER;CN="RAC%20Saddle%20Club":MAILTO:office@racsaddleclub.co.uk
END:VEVENT
BEGIN:VEVENT
DTSTART;TZID=Europe/London:20231118T103000
DTEND;TZID=Europe/London:20231118T113000
DTSTAMP:20260420T192138
CREATED:20221201T144132Z
LAST-MODIFIED:20221204T084056Z
UID:3172-1700303400-1700307000@www.racsaddleclub.co.uk
SUMMARY:Arena XC Clinic 80cm+
DESCRIPTION:
URL:https://www.racsaddleclub.co.uk/event/arena-xc-clinic-80cm/
LOCATION:RAC Saddle Club\, Bovington\, BH20 6JG
CATEGORIES:Arena XC,Clinic
ORGANIZER;CN="RAC%20Saddle%20Club":MAILTO:office@racsaddleclub.co.uk
END:VEVENT
BEGIN:VEVENT
DTSTART;TZID=Europe/London:20231118T093000
DTEND;TZID=Europe/London:20231118T103000
DTSTAMP:20260420T192138
CREATED:20221201T144132Z
LAST-MODIFIED:20221204T083846Z
UID:3171-1700299800-1700303400@www.racsaddleclub.co.uk
SUMMARY:Arena XC Clinic up to 80cm
DESCRIPTION:
URL:https://www.racsaddleclub.co.uk/event/arena-xc-clinic-up-to-80cm-2/
LOCATION:RAC Saddle Club\, Bovington\, BH20 6JG
CATEGORIES:Arena XC,Clinic
ORGANIZER;CN="RAC%20Saddle%20Club":MAILTO:office@racsaddleclub.co.uk
END:VEVENT
END:VCALENDAR