BEGIN:VCALENDAR
VERSION:2.0
PRODID:-//Royal Armoured Corps Saddle Club, Bovington - ECPv6.0.3//NONSGML v1.0//EN
CALSCALE:GREGORIAN
METHOD:PUBLISH
X-WR-CALNAME:Royal Armoured Corps Saddle Club, Bovington
X-ORIGINAL-URL:https://www.racsaddleclub.co.uk
X-WR-CALDESC:Events for Royal Armoured Corps Saddle Club, Bovington
REFRESH-INTERVAL;VALUE=DURATION:PT1H
X-Robots-Tag:noindex
X-PUBLISHED-TTL:PT1H
BEGIN:VTIMEZONE
TZID:Europe/London
BEGIN:DAYLIGHT
TZOFFSETFROM:+0000
TZOFFSETTO:+0100
TZNAME:BST
DTSTART:20220327T010000
END:DAYLIGHT
BEGIN:STANDARD
TZOFFSETFROM:+0100
TZOFFSETTO:+0000
TZNAME:GMT
DTSTART:20221030T010000
END:STANDARD
END:VTIMEZONE
BEGIN:VEVENT
DTSTART;TZID=Europe/London:20220326T100000
DTEND;TZID=Europe/London:20220326T100000
DTSTAMP:20260421T072122
CREATED:20220102T141235Z
LAST-MODIFIED:20220114T115055Z
UID:1847-1648288800-1648288800@www.racsaddleclub.co.uk
SUMMARY:Arena Eventing Clinic
DESCRIPTION:A course of 18 jumps with a mixture of show jumps and arena xc jumps.
URL:https://www.racsaddleclub.co.uk/event/arena-xc-clinic-6/
LOCATION:RAC Saddle Club\, Bovington\, BH20 6JG
CATEGORIES:Arena XC
END:VEVENT
BEGIN:VEVENT
DTSTART;TZID=Europe/London:20220325T140000
DTEND;TZID=Europe/London:20220325T140000
DTSTAMP:20260421T072122
CREATED:20220102T141235Z
LAST-MODIFIED:20220114T115040Z
UID:1846-1648216800-1648216800@www.racsaddleclub.co.uk
SUMMARY:Arena Eventing Clinic
DESCRIPTION:A course of 18 jumps with a mixture of show jumps and arena xc jumps.
URL:https://www.racsaddleclub.co.uk/event/arena-xc-clinic-5/
LOCATION:RAC Saddle Club\, Bovington\, BH20 6JG
CATEGORIES:Arena XC
END:VEVENT
BEGIN:VEVENT
DTSTART;TZID=Europe/London:20220307T093000
DTEND;TZID=Europe/London:20220307T093000
DTSTAMP:20260421T072122
CREATED:20220102T141233Z
LAST-MODIFIED:20220102T164653Z
UID:1845-1646645400-1646645400@www.racsaddleclub.co.uk
SUMMARY:Show Jumping Course Hire
DESCRIPTION:
URL:https://www.racsaddleclub.co.uk/event/show-jumping-course-hire-3/
LOCATION:RAC Saddle Club\, Bovington\, BH20 6JG
CATEGORIES:Show Jumping
END:VEVENT
BEGIN:VEVENT
DTSTART;TZID=Europe/London:20220306T090000
DTEND;TZID=Europe/London:20220306T090000
DTSTAMP:20260421T072122
CREATED:20220102T141233Z
LAST-MODIFIED:20220102T164653Z
UID:1844-1646557200-1646557200@www.racsaddleclub.co.uk
SUMMARY:Show Jumping Competition
DESCRIPTION:
URL:https://www.racsaddleclub.co.uk/event/show-jumping-competition-3/
LOCATION:RAC Saddle Club\, Bovington\, BH20 6JG
CATEGORIES:Show Jumping
END:VEVENT
BEGIN:VEVENT
DTSTART;TZID=Europe/London:20220305T110000
DTEND;TZID=Europe/London:20220305T110000
DTSTAMP:20260421T072122
CREATED:20220102T141233Z
LAST-MODIFIED:20220102T164653Z
UID:1843-1646478000-1646478000@www.racsaddleclub.co.uk
SUMMARY:Show Jumping Clinic
DESCRIPTION:
URL:https://www.racsaddleclub.co.uk/event/show-jumping-clinic-7/
LOCATION:RAC Saddle Club\, Bovington\, BH20 6JG
CATEGORIES:Show Jumping
END:VEVENT
BEGIN:VEVENT
DTSTART;TZID=Europe/London:20220305T100000
DTEND;TZID=Europe/London:20220305T100000
DTSTAMP:20260421T072122
CREATED:20220102T141233Z
LAST-MODIFIED:20220102T164653Z
UID:1842-1646474400-1646474400@www.racsaddleclub.co.uk
SUMMARY:Show Jumping Clinic
DESCRIPTION:
URL:https://www.racsaddleclub.co.uk/event/show-jumping-clinic-6/
LOCATION:RAC Saddle Club\, Bovington\, BH20 6JG
CATEGORIES:Show Jumping
END:VEVENT
BEGIN:VEVENT
DTSTART;TZID=Europe/London:20220304T140000
DTEND;TZID=Europe/London:20220304T140000
DTSTAMP:20260421T072122
CREATED:20220102T141233Z
LAST-MODIFIED:20220102T164653Z
UID:1841-1646402400-1646402400@www.racsaddleclub.co.uk
SUMMARY:Show Jumping Clinic
DESCRIPTION:
URL:https://www.racsaddleclub.co.uk/event/show-jumping-clinic-5/
LOCATION:RAC Saddle Club\, Bovington\, BH20 6JG
CATEGORIES:Show Jumping
END:VEVENT
BEGIN:VEVENT
DTSTART;TZID=Europe/London:20220228T093000
DTEND;TZID=Europe/London:20220228T093000
DTSTAMP:20260421T072122
CREATED:20211229T225827Z
LAST-MODIFIED:20220102T164638Z
UID:1613-1646040600-1646040600@www.racsaddleclub.co.uk
SUMMARY:Arena XC Course Hire
DESCRIPTION:ENTER NOW
URL:https://www.racsaddleclub.co.uk/event/arena-xc-course-hire-2/
LOCATION:RAC Saddle Club\, Bovington\, BH20 6JG
CATEGORIES:Arena XC
END:VEVENT
BEGIN:VEVENT
DTSTART;TZID=Europe/London:20220227T090000
DTEND;TZID=Europe/London:20220227T090000
DTSTAMP:20260421T072122
CREATED:20211229T225827Z
LAST-MODIFIED:20220102T164638Z
UID:1612-1645952400-1645952400@www.racsaddleclub.co.uk
SUMMARY:Arena XC Competition
DESCRIPTION:ENTER NOW
URL:https://www.racsaddleclub.co.uk/event/arena-xc-competition-2/
LOCATION:RAC Saddle Club\, Bovington\, BH20 6JG
CATEGORIES:Arena XC
END:VEVENT
BEGIN:VEVENT
DTSTART;TZID=Europe/London:20220226T110000
DTEND;TZID=Europe/London:20220226T110000
DTSTAMP:20260421T072122
CREATED:20211229T231542Z
LAST-MODIFIED:20220102T164638Z
UID:1710-1645873200-1645873200@www.racsaddleclub.co.uk
SUMMARY:Arena XC Clinic
DESCRIPTION:ENTER NOW
URL:https://www.racsaddleclub.co.uk/event/arena-xc-clinic-12/
LOCATION:RAC Saddle Club\, Bovington\, BH20 6JG
CATEGORIES:Arena XC
END:VEVENT
BEGIN:VEVENT
DTSTART;TZID=Europe/London:20220226T100000
DTEND;TZID=Europe/London:20220226T100000
DTSTAMP:20260421T072122
CREATED:20211229T225827Z
LAST-MODIFIED:20220102T164638Z
UID:1611-1645869600-1645869600@www.racsaddleclub.co.uk
SUMMARY:Arena XC Clinic
DESCRIPTION:ENTER NOW
URL:https://www.racsaddleclub.co.uk/event/arena-xc-clinic-4/
LOCATION:RAC Saddle Club\, Bovington\, BH20 6JG
CATEGORIES:Arena XC
END:VEVENT
BEGIN:VEVENT
DTSTART;TZID=Europe/London:20220225T140000
DTEND;TZID=Europe/London:20220225T140000
DTSTAMP:20260421T072122
CREATED:20211229T225812Z
LAST-MODIFIED:20220102T164638Z
UID:1610-1645797600-1645797600@www.racsaddleclub.co.uk
SUMMARY:Arena XC Clinic
DESCRIPTION:ENTER NOW
URL:https://www.racsaddleclub.co.uk/event/arena-xc-clinic-3/
LOCATION:RAC Saddle Club\, Bovington\, BH20 6JG
CATEGORIES:Arena XC
END:VEVENT
BEGIN:VEVENT
DTSTART;TZID=Europe/London:20220223T090000
DTEND;TZID=Europe/London:20220223T090000
DTSTAMP:20260421T072122
CREATED:20211229T225812Z
LAST-MODIFIED:20220102T194958Z
UID:1609-1645606800-1645606800@www.racsaddleclub.co.uk
SUMMARY:Under 25 Show Jumping Competition
DESCRIPTION:ENTER NOW
URL:https://www.racsaddleclub.co.uk/event/under-25-show-jumping-competition/
LOCATION:RAC Saddle Club\, Bovington\, BH20 6JG
CATEGORIES:Show Jumping
END:VEVENT
BEGIN:VEVENT
DTSTART;TZID=Europe/London:20220222T100000
DTEND;TZID=Europe/London:20220222T100000
DTSTAMP:20260421T072122
CREATED:20211229T225812Z
LAST-MODIFIED:20220102T164623Z
UID:1608-1645524000-1645524000@www.racsaddleclub.co.uk
SUMMARY:Pony Fun Day
DESCRIPTION:DOWNLOAD BOOKING FORM & MORE INFORMATION
URL:https://www.racsaddleclub.co.uk/event/pony-fun-day/
LOCATION:RAC Saddle Club\, Bovington\, BH20 6JG
CATEGORIES:Fun Day
END:VEVENT
BEGIN:VEVENT
DTSTART;TZID=Europe/London:20220220T090000
DTEND;TZID=Europe/London:20220220T153000
DTSTAMP:20260421T072122
CREATED:20211229T234816Z
LAST-MODIFIED:20211229T234840Z
UID:1806-1645347600-1645371000@www.racsaddleclub.co.uk
SUMMARY:Pre-Season Preparation Clinic with Jo Rimmer & Joe Roome
DESCRIPTION:ENTER NOW
URL:https://www.racsaddleclub.co.uk/event/pre-season-preparation-clinic-with-jo-rimmer-joe-roome-3/
END:VEVENT
BEGIN:VEVENT
DTSTART;TZID=Europe/London:20220207T093000
DTEND;TZID=Europe/London:20220207T093000
DTSTAMP:20260421T072122
CREATED:20211229T225812Z
LAST-MODIFIED:20220102T164623Z
UID:1607-1644226200-1644226200@www.racsaddleclub.co.uk
SUMMARY:Show Jumping Course Hire
DESCRIPTION:ENTER NOW
URL:https://www.racsaddleclub.co.uk/event/show-jumping-course-hire-2/
LOCATION:RAC Saddle Club\, Bovington\, BH20 6JG
CATEGORIES:Show Jumping
END:VEVENT
BEGIN:VEVENT
DTSTART;TZID=Europe/London:20220206T090000
DTEND;TZID=Europe/London:20220206T090000
DTSTAMP:20260421T072122
CREATED:20211229T225812Z
LAST-MODIFIED:20220204T101625Z
UID:1606-1644138000-1644138000@www.racsaddleclub.co.uk
SUMMARY:Show Jumping Competition
DESCRIPTION:ENTRIES CLOSED \nTIMES & NUMBERS \nNUMBER TEMPLATE
URL:https://www.racsaddleclub.co.uk/event/show-jumping-competition-2/
LOCATION:RAC Saddle Club\, Bovington\, BH20 6JG
CATEGORIES:Show Jumping
END:VEVENT
BEGIN:VEVENT
DTSTART;TZID=Europe/London:20220205T110000
DTEND;TZID=Europe/London:20220205T110000
DTSTAMP:20260421T072122
CREATED:20211229T231527Z
LAST-MODIFIED:20220102T175654Z
UID:1703-1644058800-1644058800@www.racsaddleclub.co.uk
SUMMARY:Show Jumping Clinic
DESCRIPTION:ENTER NOW
URL:https://www.racsaddleclub.co.uk/event/show-jumping-clinic-18/
LOCATION:RAC Saddle Club\, Bovington\, BH20 6JG
CATEGORIES:Show Jumping
END:VEVENT
BEGIN:VEVENT
DTSTART;TZID=Europe/London:20220205T100000
DTEND;TZID=Europe/London:20220205T100000
DTSTAMP:20260421T072122
CREATED:20211229T225757Z
LAST-MODIFIED:20220102T164608Z
UID:1605-1644055200-1644055200@www.racsaddleclub.co.uk
SUMMARY:Show Jumping Clinic
DESCRIPTION:ENTER NOW
URL:https://www.racsaddleclub.co.uk/event/show-jumping-clinic-4/
LOCATION:RAC Saddle Club\, Bovington\, BH20 6JG
CATEGORIES:Show Jumping
END:VEVENT
BEGIN:VEVENT
DTSTART;TZID=Europe/London:20220204T140000
DTEND;TZID=Europe/London:20220204T140000
DTSTAMP:20260421T072122
CREATED:20211229T225757Z
LAST-MODIFIED:20220102T164608Z
UID:1604-1643983200-1643983200@www.racsaddleclub.co.uk
SUMMARY:Show Jumping Clinic
DESCRIPTION:ENTER NOW
URL:https://www.racsaddleclub.co.uk/event/show-jumping-clinic-3/
LOCATION:RAC Saddle Club\, Bovington\, BH20 6JG
CATEGORIES:Show Jumping
END:VEVENT
BEGIN:VEVENT
DTSTART;TZID=Europe/London:20220130T090000
DTEND;TZID=Europe/London:20220130T153000
DTSTAMP:20260421T072122
CREATED:20211229T234621Z
LAST-MODIFIED:20220102T163712Z
UID:1804-1643533200-1643556600@www.racsaddleclub.co.uk
SUMMARY:Pre-Season Preparation Clinic with Jo Rimmer & Joe Roome
DESCRIPTION:ENTER NOW
URL:https://www.racsaddleclub.co.uk/event/pre-season-preparation-clinic-with-jo-rimmer-joe-roome-2/
LOCATION:RAC Saddle Club\, Bovington\, BH20 6JG
CATEGORIES:Clinic
END:VEVENT
BEGIN:VEVENT
DTSTART;TZID=Europe/London:20220124T093000
DTEND;TZID=Europe/London:20220124T093000
DTSTAMP:20260421T072122
CREATED:20211229T225757Z
LAST-MODIFIED:20220102T164608Z
UID:1603-1643016600-1643016600@www.racsaddleclub.co.uk
SUMMARY:Arena XC Course Hire
DESCRIPTION:ENTER NOW
URL:https://www.racsaddleclub.co.uk/event/arena-xc-course-hire/
LOCATION:RAC Saddle Club\, Bovington\, BH20 6JG
CATEGORIES:Arena XC
END:VEVENT
BEGIN:VEVENT
DTSTART;TZID=Europe/London:20220123T090000
DTEND;TZID=Europe/London:20220123T090000
DTSTAMP:20260421T072122
CREATED:20211229T225757Z
LAST-MODIFIED:20220102T164553Z
UID:1602-1642928400-1642928400@www.racsaddleclub.co.uk
SUMMARY:Arena XC Competition
DESCRIPTION:ENTER NOW
URL:https://www.racsaddleclub.co.uk/event/arena-xc-competition/
LOCATION:RAC Saddle Club\, Bovington\, BH20 6JG
CATEGORIES:Arena XC
END:VEVENT
BEGIN:VEVENT
DTSTART;TZID=Europe/London:20220122T110000
DTEND;TZID=Europe/London:20220122T110000
DTSTAMP:20260421T072122
CREATED:20211229T231512Z
LAST-MODIFIED:20220102T164553Z
UID:1698-1642849200-1642849200@www.racsaddleclub.co.uk
SUMMARY:Arena XC Clinic
DESCRIPTION:ENTER NOW
URL:https://www.racsaddleclub.co.uk/event/arena-xc-clinic-11/
LOCATION:RAC Saddle Club\, Bovington\, BH20 6JG
CATEGORIES:Arena XC
END:VEVENT
BEGIN:VEVENT
DTSTART;TZID=Europe/London:20220122T100000
DTEND;TZID=Europe/London:20220122T100000
DTSTAMP:20260421T072122
CREATED:20211229T225757Z
LAST-MODIFIED:20220102T164553Z
UID:1601-1642845600-1642845600@www.racsaddleclub.co.uk
SUMMARY:Arena XC Clinic
DESCRIPTION:ENTER NOW
URL:https://www.racsaddleclub.co.uk/event/arena-xc-clinic-2/
LOCATION:RAC Saddle Club\, Bovington\, BH20 6JG
CATEGORIES:Arena XC
END:VEVENT
BEGIN:VEVENT
DTSTART;TZID=Europe/London:20220121T140000
DTEND;TZID=Europe/London:20220121T140000
DTSTAMP:20260421T072122
CREATED:20211229T225755Z
LAST-MODIFIED:20220102T164553Z
UID:1600-1642773600-1642773600@www.racsaddleclub.co.uk
SUMMARY:Arena XC Clinic
DESCRIPTION:ENTER NOW
URL:https://www.racsaddleclub.co.uk/event/arena-xc-clinic/
LOCATION:RAC Saddle Club\, Bovington\, BH20 6JG
CATEGORIES:Arena XC
END:VEVENT
BEGIN:VEVENT
DTSTART;TZID=Europe/London:20220116T090000
DTEND;TZID=Europe/London:20220116T153000
DTSTAMP:20260421T072122
CREATED:20211229T234316Z
LAST-MODIFIED:20220102T150203Z
UID:1801-1642323600-1642347000@www.racsaddleclub.co.uk
SUMMARY:Pre-Season Preparation Clinic with Jo Rimmer & Joe Roome
DESCRIPTION:ENTER NOW
URL:https://www.racsaddleclub.co.uk/event/pre-season-preparation-clinic-with-jo-rimmer-joe-roome/
LOCATION:Rac Saddle Club\, Bovington
CATEGORIES:Clinic
END:VEVENT
BEGIN:VEVENT
DTSTART;TZID=Europe/London:20220110T093000
DTEND;TZID=Europe/London:20220110T093000
DTSTAMP:20260421T072122
CREATED:20211229T225755Z
LAST-MODIFIED:20220102T164551Z
UID:1599-1641807000-1641807000@www.racsaddleclub.co.uk
SUMMARY:Show Jumping Course Hire
DESCRIPTION:ENTER NOW
URL:https://www.racsaddleclub.co.uk/event/show-jumping-course-hire/
LOCATION:RAC Saddle Club\, Bovington\, BH20 6JG
CATEGORIES:Show Jumping
END:VEVENT
BEGIN:VEVENT
DTSTART;TZID=Europe/London:20220109T090000
DTEND;TZID=Europe/London:20220109T090000
DTSTAMP:20260421T072122
CREATED:20211229T225755Z
LAST-MODIFIED:20220102T164551Z
UID:1598-1641718800-1641718800@www.racsaddleclub.co.uk
SUMMARY:Show Jumping Competition
DESCRIPTION:ENTER NOW
URL:https://www.racsaddleclub.co.uk/event/show-jumping-competition/
LOCATION:RAC Saddle Club\, Bovington\, BH20 6JG
CATEGORIES:Show Jumping
END:VEVENT
BEGIN:VEVENT
DTSTART;TZID=Europe/London:20220108T110000
DTEND;TZID=Europe/London:20220108T110000
DTSTAMP:20260421T072122
CREATED:20211229T231510Z
LAST-MODIFIED:20220102T164551Z
UID:1694-1641639600-1641639600@www.racsaddleclub.co.uk
SUMMARY:Show Jumping Clinic
DESCRIPTION:ENTER NOW
URL:https://www.racsaddleclub.co.uk/event/show-jumping-clinic-17/
LOCATION:RAC Saddle Club\, Bovington\, BH20 6JG
CATEGORIES:Show Jumping
END:VEVENT
END:VCALENDAR