BEGIN:VCALENDAR
VERSION:2.0
PRODID:-//Royal Armoured Corps Saddle Club, Bovington - ECPv6.0.3//NONSGML v1.0//EN
CALSCALE:GREGORIAN
METHOD:PUBLISH
X-WR-CALNAME:Royal Armoured Corps Saddle Club, Bovington
X-ORIGINAL-URL:https://www.racsaddleclub.co.uk
X-WR-CALDESC:Events for Royal Armoured Corps Saddle Club, Bovington
REFRESH-INTERVAL;VALUE=DURATION:PT1H
X-Robots-Tag:noindex
X-PUBLISHED-TTL:PT1H
BEGIN:VTIMEZONE
TZID:Europe/London
BEGIN:DAYLIGHT
TZOFFSETFROM:+0000
TZOFFSETTO:+0100
TZNAME:BST
DTSTART:20220327T010000
END:DAYLIGHT
BEGIN:STANDARD
TZOFFSETFROM:+0100
TZOFFSETTO:+0000
TZNAME:GMT
DTSTART:20221030T010000
END:STANDARD
END:VTIMEZONE
BEGIN:VEVENT
DTSTART;TZID=Europe/London:20221216T140000
DTEND;TZID=Europe/London:20221216T150000
DTSTAMP:20260421T001759
CREATED:20220805T135141Z
LAST-MODIFIED:20220805T135141Z
UID:2672-1671199200-1671202800@www.racsaddleclub.co.uk
SUMMARY:Show Jumping Clinic
DESCRIPTION:
URL:https://www.racsaddleclub.co.uk/event/show-jumping-clinic-26/
LOCATION:RAC Saddle Club\, Bovington\, BH20 6JG
CATEGORIES:Clinic,Show Jumping
ORGANIZER;CN="RAC%20Saddle%20Club":MAILTO:office@racsaddleclub.co.uk
END:VEVENT
BEGIN:VEVENT
DTSTART;TZID=Europe/London:20221211T080000
DTEND;TZID=Europe/London:20221211T170000
DTSTAMP:20260421T001759
CREATED:20220617T152542Z
LAST-MODIFIED:20221103T174111Z
UID:2540-1670745600-1670778000@www.racsaddleclub.co.uk
SUMMARY:Jo Rimmer & Joe Roome Pre-Season Preparation Clinic
DESCRIPTION:International Event Riders\n£60 for 2 hour clinic\n1 hour in each discipline (flat & jumping) with each coach\nmax 4 in the group\nheights of 80\,90\,100 & Novice\nBook now on Equo
URL:https://www.racsaddleclub.co.uk/event/jo-roome-joe-rimmer-eventing-preparation-clinic-2/
LOCATION:RAC Saddle Club\, Bovington\, BH20 6JG
CATEGORIES:Clinic
ORGANIZER;CN="RAC%20Saddle%20Club":MAILTO:office@racsaddleclub.co.uk
END:VEVENT
BEGIN:VEVENT
DTSTART;TZID=Europe/London:20221128T093000
DTEND;TZID=Europe/London:20221128T093000
DTSTAMP:20260421T001759
CREATED:20220102T142033Z
LAST-MODIFIED:20220102T174018Z
UID:1918-1669627800-1669627800@www.racsaddleclub.co.uk
SUMMARY:Arena XC Course Hire
DESCRIPTION:
URL:https://www.racsaddleclub.co.uk/event/arena-xc-course-hire-5/
LOCATION:RAC Saddle Club\, Bovington\, BH20 6JG
CATEGORIES:Arena XC
END:VEVENT
BEGIN:VEVENT
DTSTART;TZID=Europe/London:20221127T090000
DTEND;TZID=Europe/London:20221127T090000
DTSTAMP:20260421T001759
CREATED:20220102T142033Z
LAST-MODIFIED:20220102T174018Z
UID:1917-1669539600-1669539600@www.racsaddleclub.co.uk
SUMMARY:Arena XC Competition
DESCRIPTION:
URL:https://www.racsaddleclub.co.uk/event/arena-xc-competition-5/
LOCATION:RAC Saddle Club\, Bovington\, BH20 6JG
CATEGORIES:Arena XC
END:VEVENT
BEGIN:VEVENT
DTSTART;TZID=Europe/London:20221126T103000
DTEND;TZID=Europe/London:20221126T103000
DTSTAMP:20260421T001759
CREATED:20220102T142033Z
LAST-MODIFIED:20221103T161016Z
UID:1916-1669458600-1669458600@www.racsaddleclub.co.uk
SUMMARY:Arena XC Clinic
DESCRIPTION:
URL:https://www.racsaddleclub.co.uk/event/arena-xc-clinic-15/
LOCATION:RAC Saddle Club\, Bovington\, BH20 6JG
CATEGORIES:Arena XC
END:VEVENT
BEGIN:VEVENT
DTSTART;TZID=Europe/London:20221126T093000
DTEND;TZID=Europe/London:20221126T093000
DTSTAMP:20260421T001759
CREATED:20220102T141832Z
LAST-MODIFIED:20221103T160929Z
UID:1915-1669455000-1669455000@www.racsaddleclub.co.uk
SUMMARY:Arena XC Clinic
DESCRIPTION:
URL:https://www.racsaddleclub.co.uk/event/arena-xc-clinic-14/
LOCATION:RAC Saddle Club\, Bovington\, BH20 6JG
CATEGORIES:Arena XC
END:VEVENT
BEGIN:VEVENT
DTSTART;TZID=Europe/London:20221125T140000
DTEND;TZID=Europe/London:20221125T140000
DTSTAMP:20260421T001759
CREATED:20220102T141832Z
LAST-MODIFIED:20220102T174003Z
UID:1914-1669384800-1669384800@www.racsaddleclub.co.uk
SUMMARY:Arena XC Clinic
DESCRIPTION:
URL:https://www.racsaddleclub.co.uk/event/arena-xc-clinic-13/
LOCATION:RAC Saddle Club\, Bovington\, BH20 6JG
CATEGORIES:Arena XC
END:VEVENT
BEGIN:VEVENT
DTSTART;TZID=Europe/London:20221120T080000
DTEND;TZID=Europe/London:20221120T170000
DTSTAMP:20260421T001759
CREATED:20220617T152417Z
LAST-MODIFIED:20221103T174048Z
UID:2538-1668931200-1668963600@www.racsaddleclub.co.uk
SUMMARY:Jo Rimmer & Joe Roome Pre-Season Preparation Clinic
DESCRIPTION:International Event Riders\n£60 for 2 hour clinic\n1 hour in each discipline (flat & jumping) with each coach\nmax 4 in the group\nheights of 80\,90\,100 & Novice\nBook now on Equo
URL:https://www.racsaddleclub.co.uk/event/jo-roome-joe-rimmer-eventing-preparation-clinic/
LOCATION:RAC Saddle Club\, Bovington\, BH20 6JG
CATEGORIES:Clinic
ORGANIZER;CN="RAC%20Saddle%20Club":MAILTO:office@racsaddleclub.co.uk
END:VEVENT
BEGIN:VEVENT
DTSTART;TZID=Europe/London:20221107T093000
DTEND;TZID=Europe/London:20221107T093000
DTSTAMP:20260421T001759
CREATED:20220102T141832Z
LAST-MODIFIED:20220102T174003Z
UID:1913-1667813400-1667813400@www.racsaddleclub.co.uk
SUMMARY:Show Jumping Course Hire
DESCRIPTION:
URL:https://www.racsaddleclub.co.uk/event/show-jumping-course-hire-7/
LOCATION:RAC Saddle Club\, Bovington\, BH20 6JG
CATEGORIES:Show Jumping
END:VEVENT
BEGIN:VEVENT
DTSTART;TZID=Europe/London:20221106T093000
DTEND;TZID=Europe/London:20221106T093000
DTSTAMP:20260421T001759
CREATED:20220102T141832Z
LAST-MODIFIED:20221103T175117Z
UID:1912-1667727000-1667727000@www.racsaddleclub.co.uk
SUMMARY:Show Jumping Competition
DESCRIPTION:
URL:https://www.racsaddleclub.co.uk/event/show-jumping-competition-7/
LOCATION:RAC Saddle Club\, Bovington\, BH20 6JG
CATEGORIES:Show Jumping
END:VEVENT
BEGIN:VEVENT
DTSTART;TZID=Europe/London:20221105T103000
DTEND;TZID=Europe/London:20221105T103000
DTSTAMP:20260421T001759
CREATED:20220102T141832Z
LAST-MODIFIED:20221103T160739Z
UID:1911-1667644200-1667644200@www.racsaddleclub.co.uk
SUMMARY:Show Jumping Clinic
DESCRIPTION:
URL:https://www.racsaddleclub.co.uk/event/show-jumping-clinic-21/
LOCATION:RAC Saddle Club\, Bovington\, BH20 6JG
CATEGORIES:Show Jumping
END:VEVENT
BEGIN:VEVENT
DTSTART;TZID=Europe/London:20221105T093000
DTEND;TZID=Europe/London:20221105T093000
DTSTAMP:20260421T001759
CREATED:20220102T141631Z
LAST-MODIFIED:20221103T160811Z
UID:1910-1667640600-1667640600@www.racsaddleclub.co.uk
SUMMARY:Show Jumping Clinic
DESCRIPTION:
URL:https://www.racsaddleclub.co.uk/event/show-jumping-clinic-20/
LOCATION:RAC Saddle Club\, Bovington\, BH20 6JG
CATEGORIES:Show Jumping
END:VEVENT
BEGIN:VEVENT
DTSTART;TZID=Europe/London:20221104T140000
DTEND;TZID=Europe/London:20221104T140000
DTSTAMP:20260421T001759
CREATED:20220102T141631Z
LAST-MODIFIED:20220102T173948Z
UID:1909-1667570400-1667570400@www.racsaddleclub.co.uk
SUMMARY:Show Jumping Clinic
DESCRIPTION:
URL:https://www.racsaddleclub.co.uk/event/show-jumping-clinic-19/
LOCATION:RAC Saddle Club\, Bovington\, BH20 6JG
CATEGORIES:Show Jumping
END:VEVENT
BEGIN:VEVENT
DTSTART;TZID=Europe/London:20221104T000000
DTEND;TZID=Europe/London:20221104T000000
DTSTAMP:20260421T001759
CREATED:20221201T144102Z
LAST-MODIFIED:20221201T144102Z
UID:3165-1667520000-1667520000@www.racsaddleclub.co.uk
SUMMARY:Show Jumping Clinic
DESCRIPTION:
URL:https://www.racsaddleclub.co.uk/event/show-jumping-clinic-39/
END:VEVENT
BEGIN:VEVENT
DTSTART;TZID=Europe/London:20221104T000000
DTEND;TZID=Europe/London:20221104T000000
DTSTAMP:20260421T001759
CREATED:20221201T141533Z
LAST-MODIFIED:20221201T141533Z
UID:3061-1667520000-1667520000@www.racsaddleclub.co.uk
SUMMARY:Show Jumping Clinic
DESCRIPTION:
URL:https://www.racsaddleclub.co.uk/event/show-jumping-clinic-35/
END:VEVENT
BEGIN:VEVENT
DTSTART;TZID=Europe/London:20221104T000000
DTEND;TZID=Europe/London:20221104T000000
DTSTAMP:20260421T001759
CREATED:20221201T125604Z
LAST-MODIFIED:20221201T125604Z
UID:2957-1667520000-1667520000@www.racsaddleclub.co.uk
SUMMARY:Show Jumping Clinic
DESCRIPTION:
URL:https://www.racsaddleclub.co.uk/event/show-jumping-clinic-32/
END:VEVENT
BEGIN:VEVENT
DTSTART;TZID=Europe/London:20221026T080000
DTEND;TZID=Europe/London:20221026T170000
DTSTAMP:20260421T001759
CREATED:20220617T152757Z
LAST-MODIFIED:20220629T132255Z
UID:2544-1666771200-1666803600@www.racsaddleclub.co.uk
SUMMARY:U25 Show Jumping Competition (Individuals & Teams)
DESCRIPTION:VIEW ON EQUO
URL:https://www.racsaddleclub.co.uk/event/u25-show-jumping-competition-individuals-teams/
LOCATION:RAC Saddle Club\, Bovington\, BH20 6JG
CATEGORIES:Show Jumping
ORGANIZER;CN="RAC%20Saddle%20Club":MAILTO:office@racsaddleclub.co.uk
END:VEVENT
BEGIN:VEVENT
DTSTART;TZID=Europe/London:20221017T093000
DTEND;TZID=Europe/London:20221017T160000
DTSTAMP:20260421T001759
CREATED:20220629T132136Z
LAST-MODIFIED:20220824T163724Z
UID:2600-1665999000-1666022400@www.racsaddleclub.co.uk
SUMMARY:Show Jumping Course Hire - BE Course (Dressed & Flagged)
DESCRIPTION:
URL:https://www.racsaddleclub.co.uk/event/show-jumping-course-hire-be-course-dressed-flagged/
LOCATION:RAC Saddle Club\, Bovington\, BH20 6JG
CATEGORIES:Course Hire,Show Jumping
ORGANIZER;CN="RAC%20Saddle%20Club":MAILTO:office@racsaddleclub.co.uk
END:VEVENT
BEGIN:VEVENT
DTSTART;TZID=Europe/London:20221017T093000
DTEND;TZID=Europe/London:20221017T143000
DTSTAMP:20260421T001759
CREATED:20220629T131858Z
LAST-MODIFIED:20220824T163919Z
UID:2598-1665999000-1666017000@www.racsaddleclub.co.uk
SUMMARY:XC Schooling - BE Course Open (Flagged and Dressed)
DESCRIPTION:VIEW ON EQUO
URL:https://www.racsaddleclub.co.uk/event/xc-schooling-be-course-open-flagged-and-dressed/
LOCATION:RAC Saddle Club\, Bovington\, BH20 6JG
CATEGORIES:XC Schooling - Course Open
ORGANIZER;CN="RAC%20Saddle%20Club":MAILTO:office@racsaddleclub.co.uk
END:VEVENT
BEGIN:VEVENT
DTSTART;TZID=Europe/London:20221016T080000
DTEND;TZID=Europe/London:20221016T170000
DTSTAMP:20260421T001759
CREATED:20220102T141450Z
LAST-MODIFIED:20220824T164006Z
UID:1895-1665907200-1665939600@www.racsaddleclub.co.uk
SUMMARY:Bovington BE - NEW DATE
DESCRIPTION:
URL:https://www.racsaddleclub.co.uk/event/bovington-be-new-date/
LOCATION:RAC Saddle Club\, Bovington\, BH20 6JG
CATEGORIES:British Eventing
END:VEVENT
BEGIN:VEVENT
DTSTART;TZID=Europe/London:20221015T080000
DTEND;TZID=Europe/London:20221015T170000
DTSTAMP:20260421T001759
CREATED:20220102T141506Z
LAST-MODIFIED:20220824T163612Z
UID:1896-1665820800-1665853200@www.racsaddleclub.co.uk
SUMMARY:Bovington BE - NEW DATE
DESCRIPTION:
URL:https://www.racsaddleclub.co.uk/event/bovington-be-new-date-2/
LOCATION:RAC Saddle Club\, Bovington\, BH20 6JG
CATEGORIES:British Eventing
END:VEVENT
BEGIN:VEVENT
DTSTART;TZID=Europe/London:20220911T083000
DTEND;TZID=Europe/London:20220911T160000
DTSTAMP:20260421T001759
CREATED:20220102T141450Z
LAST-MODIFIED:20220629T131644Z
UID:1894-1662885000-1662912000@www.racsaddleclub.co.uk
SUMMARY:RAC Saddle Club & South Dorset Hunt Hunter Trial
DESCRIPTION:VIEW ON EQUO
URL:https://www.racsaddleclub.co.uk/event/bovington-hunter-trial-date-tbc/
LOCATION:RAC Saddle Club\, Bovington\, BH20 6JG
CATEGORIES:Hunter Trial
END:VEVENT
BEGIN:VEVENT
DTSTART;TZID=Europe/London:20220828T093000
DTEND;TZID=Europe/London:20220828T093000
DTSTAMP:20260421T001759
CREATED:20220102T141450Z
LAST-MODIFIED:20220629T131404Z
UID:1893-1661679000-1661679000@www.racsaddleclub.co.uk
SUMMARY:XC Schooling - Course Open
DESCRIPTION:ENTER HERE
URL:https://www.racsaddleclub.co.uk/event/xc-schooling-course-open-7/
LOCATION:RAC Saddle Club\, Bovington\, BH20 6JG
CATEGORIES:XC Schooling - Course Open
END:VEVENT
BEGIN:VEVENT
DTSTART;TZID=Europe/London:20220827T093000
DTEND;TZID=Europe/London:20220827T143000
DTSTAMP:20260421T001759
CREATED:20220629T131509Z
LAST-MODIFIED:20220629T131525Z
UID:2595-1661592600-1661610600@www.racsaddleclub.co.uk
SUMMARY:XC Schooling - Course Open
DESCRIPTION:ENTER HERE
URL:https://www.racsaddleclub.co.uk/event/xc-schooling-course-open-8/
LOCATION:RAC Saddle Club\, Bovington\, BH20 6JG
CATEGORIES:XC Schooling - Course Open
ORGANIZER;CN="RAC%20Saddle%20Club":MAILTO:office@racsaddleclub.co.uk
END:VEVENT
BEGIN:VEVENT
DTSTART;TZID=Europe/London:20220819T160000
DTEND;TZID=Europe/London:20220821T160000
DTSTAMP:20260421T001759
CREATED:20220102T141450Z
LAST-MODIFIED:20220106T104142Z
UID:1892-1660924800-1661097600@www.racsaddleclub.co.uk
SUMMARY:Bovington Adult Camp
DESCRIPTION:Loading…
URL:https://www.racsaddleclub.co.uk/event/bovington-adult-camp-6/
LOCATION:RAC Saddle Club\, Bovington\, BH20 6JG
CATEGORIES:Camps
END:VEVENT
BEGIN:VEVENT
DTSTART;TZID=Europe/London:20220818T090000
DTEND;TZID=Europe/London:20220819T160000
DTSTAMP:20260421T001759
CREATED:20220102T141435Z
LAST-MODIFIED:20220106T104233Z
UID:1888-1660813200-1660924800@www.racsaddleclub.co.uk
SUMMARY:Bovington Mini Camp
DESCRIPTION:
URL:https://www.racsaddleclub.co.uk/event/bovington-mini-camp/
LOCATION:RAC Saddle Club\, Bovington\, BH20 6JG
CATEGORIES:Camps
END:VEVENT
BEGIN:VEVENT
DTSTART;TZID=Europe/London:20220814T090000
DTEND;TZID=Europe/London:20220817T150000
DTSTAMP:20260421T001759
CREATED:20220102T141420Z
LAST-MODIFIED:20220127T212656Z
UID:1884-1660467600-1660748400@www.racsaddleclub.co.uk
SUMMARY:Bovington Junior Academy Camp
DESCRIPTION:
URL:https://www.racsaddleclub.co.uk/event/bovington-junior-camp/
LOCATION:RAC Saddle Club\, Bovington\, BH20 6JG
CATEGORIES:Camps
END:VEVENT
BEGIN:VEVENT
DTSTART;TZID=Europe/London:20220808T080000
DTEND;TZID=Europe/London:20220810T150000
DTSTAMP:20260421T001759
CREATED:20220102T141420Z
LAST-MODIFIED:20220106T103301Z
UID:1883-1659945600-1660143600@www.racsaddleclub.co.uk
SUMMARY:Bovington Pony Club Camp
DESCRIPTION:
URL:https://www.racsaddleclub.co.uk/event/bovington-pony-club-camp-3/
LOCATION:RAC Saddle Club\, Bovington\, BH20 6JG
CATEGORIES:Camps
END:VEVENT
BEGIN:VEVENT
DTSTART;TZID=Europe/London:20220801T090000
DTEND;TZID=Europe/London:20220804T160000
DTSTAMP:20260421T001759
CREATED:20220102T141405Z
LAST-MODIFIED:20220629T131039Z
UID:1877-1659344400-1659628800@www.racsaddleclub.co.uk
SUMMARY:Bovington Eventers Camp
DESCRIPTION:NOW FULL
URL:https://www.racsaddleclub.co.uk/event/bovington-eventers-camp/
LOCATION:RAC Saddle Club\, Bovington\, BH20 6JG
CATEGORIES:Camps
END:VEVENT
BEGIN:VEVENT
DTSTART;TZID=Europe/London:20220708T160000
DTEND;TZID=Europe/London:20220710T160000
DTSTAMP:20260421T001759
CREATED:20220102T141350Z
LAST-MODIFIED:20220106T104116Z
UID:1874-1657296000-1657468800@www.racsaddleclub.co.uk
SUMMARY:Bovington Adult Camp
DESCRIPTION:﻿Loading…
URL:https://www.racsaddleclub.co.uk/event/bovington-adult-camp/
LOCATION:RAC Saddle Club\, Bovington\, BH20 6JG
CATEGORIES:Camps
END:VEVENT
END:VCALENDAR